BEGIN:VCALENDAR
VERSION:2.0
PRODID:-//wp-events-plugin.com//7.2.3.1//EN
TZID:America/Los_Angeles
X-WR-TIMEZONE:America/Los_Angeles
BEGIN:VEVENT
UID:41@posts.marindentalsociety.org
DTSTART;TZID=America/Los_Angeles:20221021T110000
DTEND;TZID=America/Los_Angeles:20221021T180000
DTSTAMP:20221005T074812Z
URL:https://posts.marindentalsociety.org/events/1st-annual-golf-tournament
 -fundraiser-2022/
SUMMARY:POSTPONED 1st Annual MCDS Golf Tournament Fundraiser 2022
DESCRIPTION:Join us for the Marin County Dental Society 1st annual Golf Tou
 rnament Fundraiser!\n\nThe Best Ball foursome tournament will be held at M
 arin County's very own championship course Peacock Gap located here in San
  Rafael on Friday\, October 21st. Staggered start begins at 11:00am.\n\n 	
 We will play a Best Ball foursome format\; it’s totally OK if you don’
 t regularly play a full 18 hole game.\n 	There will be a closest to the pi
 n\, longest putt\, and longest drive prizes.\n 	We will have a raffle and 
 awards dinner BBQ banquet immediately after golfing wraps up.\n 	Not a gol
 fer but want to come to the festivities? Dinner tickets are just $50 per p
 erson.\n\nRegistration for tournament includes:\n\n 	Green fees\n 	Cart\n 
 	Lunch\n 	Dinner\n 	...of course gifts\, prizes\, and give-aways from our 
 tournament sponsors\n\nSign up a foursome or sign up yourself today. Space
  is limited - don’t miss out on this sure-to-be-fun inaugural event! Ope
 n to all MCDS members and their guests. Bring associates\, staff members\,
  suppliers\, spouses\, friends\, golf buddies!\nEARLY BIRD REGISTRATION UN
 TIL SEPTEMBER 28TH:\n$175/golfer * $675/foursome\nFINAL REGISTRATION UNTIL
  OCTOBER 12th:\n$200/golfer * $775/foursome\n\n&nbsp\;\n\nA portion of all
  proceeds will go towards Marin County Dental Care Foundation to help fund
  our mission of providing free/low cost dental care to those in need in Ma
 rin County. \n\n&nbsp\;
ATTACH;FMTTYPE=image/jpeg:https://i0.wp.com/posts.marindentalsociety.org/w
 p-content/uploads/2022/09/Participant-Golf-Tournament-Instagram-Story-scal
 ed.jpg?fit=1440%2C2560&ssl=1
CATEGORIES:General
LOCATION:Peacock Gap Golf Club\, 333 Biscayne Dr. \, San Rafael\, CA\, 9490
 1\, United States
X-APPLE-STRUCTURED-LOCATION;VALUE=URI;X-ADDRESS=333 Biscayne Dr. \, San Raf
 ael\, CA\, 94901\, United States;X-APPLE-RADIUS=100;X-TITLE=Peacock Gap Go
 lf Club:geo:0,0
END:VEVENT
BEGIN:VTIMEZONE
TZID:America/Los_Angeles
X-LIC-LOCATION:America/Los_Angeles
BEGIN:DAYLIGHT
DTSTART:20220313T030000
TZOFFSETFROM:-0800
TZOFFSETTO:-0700
TZNAME:PDT
END:DAYLIGHT
END:VTIMEZONE
END:VCALENDAR