BEGIN:VCALENDAR
VERSION:2.0
PRODID:-//wp-events-plugin.com//7.2.3.1//EN
TZID:America/Los_Angeles
X-WR-TIMEZONE:America/Los_Angeles
BEGIN:VEVENT
UID:27@posts.marindentalsociety.org
DTSTART;TZID=America/Los_Angeles:20220118T190000
DTEND;TZID=America/Los_Angeles:20220118T193000
DTSTAMP:20220115T034749Z
URL:https://posts.marindentalsociety.org/events/2022-board-installation-vi
 rtual/
SUMMARY:MCDS 2022 Board Installation - Virtual Only
DESCRIPTION:Topic: MCDS 2022 Board Installation\nTime: Jan 18\, 2022 07:00 
 PM Pacific Time (US and Canada)\n\nJoin Zoom Meeting\nhttps://zoom.us/j/97
 055096920?pwd=d3oveXZlZE43bVhBRWVweDNuRCtqZz09\n2022 Board of Directors/Of
 ficers Slate:\nPresident: Jennifer Brooks\, DMD\n\nPresident Elect: Raul C
 ontreras\, DMD\n\nSecretary-Treasurer: Heather Abramson\, DDS\n\nDirector 
 at Large: Greg Miller\, DDS\, MS\n\nDirector at Large (Incumbent): Rosemar
 ie Goldstein\, DDS\n\nDirector at Large (Incumbent): Sarah Wilsey\, DDS\n\
 nTrustee: Ana Amaya\, DDS\, MS\n\nImmediate Past President: Sophie Taylor\
 , DDS\n\nEditor: Vacant
CATEGORIES:General
END:VEVENT
BEGIN:VTIMEZONE
TZID:America/Los_Angeles
X-LIC-LOCATION:America/Los_Angeles
BEGIN:STANDARD
DTSTART:20211107T010000
TZOFFSETFROM:-0700
TZOFFSETTO:-0800
TZNAME:PST
END:STANDARD
END:VTIMEZONE
END:VCALENDAR