BEGIN:VCALENDAR
VERSION:2.0
PRODID:-//wp-events-plugin.com//7.2.3.1//EN
TZID:America/Los_Angeles
X-WR-TIMEZONE:America/Los_Angeles
BEGIN:VEVENT
UID:150@posts.marindentalsociety.org
DTSTART;TZID=America/Los_Angeles:20251213T000000
DTEND;TZID=America/Los_Angeles:20260131T000000
DTSTAMP:20251204T194932Z
URL:https://posts.marindentalsociety.org/events/8-hour-infection-control-c
 ourse-for-dental-assistants/
SUMMARY:8-Hour Infection Control Course for Dental Assistants (Berkeley & S
 an Jose)
DESCRIPTION:From Leslie Canham:\n8-Hour Infection Control Course for Dental
  Assistants:\nI’ve had the privilege of being a CDA Speaker on the Denta
 l Practice Act and Infection Control courses\, for over 20 years\, and I 
 want to help make the 8-hour Infection Control Course for unlicensed Denta
 l Assistants more accessible and affordable. This is why I have partnered
  with Elevate Dental Institute\, Inc. to conduct the 8-hour Infection Cont
 rol courses at their Berkeley and San Jose schools.\n\nI want every unlice
 nsed Dental Assistant to be well acquainted with infection control and eve
 ry Dentist to have confidence that infection control is conducted properly
 . I’m extending a special discounted rate (half of what I normally charg
 e) for these upcoming San Jose and Berkeley 8-hour Infection Control Cours
 e classes.\n\nIt’s the law. Dentists MUST ensure that their unlicensed D
 ental Assistants complete a Dental Board–approved 8-hour Infection Contr
 ol Course before performing any duties with potential exposure to blood\, 
 saliva\, or other potentially infectious materials. It’s affordable\, ac
 cessible\, and helps dentists legally employ your unlicensed Dental Assist
 ants. After all\, it’s been almost one year since California law SB 1453
  became effective. I will be conducting the hands-on clinical portion of t
 he training on the following dates and locations:\n• Friday\, December 
 13\, 2025 – San Jose\n\n• Sunday\, December 21\, 2025 – Berkeley\n\n
 • Saturday\, January 31\, 2026 – San Jose\n&nbsp\;\n\nParticipants wil
 l complete a 4-hour home-study didactic course prior to attending the 4-ho
 ur live hands-on class\, making this format one of the quickest and most 
 efficient ways to obtain certification. Space is limited\, and these sess
 ions are expected to fill quickly\, especially at this temporary discounte
 d price. Learn More Here\n\nREGISTER HERE
CATEGORIES:Continuing Education
END:VEVENT
BEGIN:VTIMEZONE
TZID:America/Los_Angeles
X-LIC-LOCATION:America/Los_Angeles
BEGIN:STANDARD
DTSTART:20251102T010000
TZOFFSETFROM:-0700
TZOFFSETTO:-0800
TZNAME:PST
END:STANDARD
END:VTIMEZONE
END:VCALENDAR