BEGIN:VCALENDAR
VERSION:2.0
PRODID:-//wp-events-plugin.com//7.2.3.1//EN
TZID:America/Los_Angeles
X-WR-TIMEZONE:America/Los_Angeles
BEGIN:VEVENT
UID:10@posts.marindentalsociety.org
DTSTART:20211214T180000Z
DTEND:20211214T200000Z
DTSTAMP:20211210T054140Z
URL:https://posts.marindentalsociety.org/events/annual-election-holiday-so
 cial-online-gift-drive/
SUMMARY:Annual Election & Holiday Social/Online Gift Drive
DESCRIPTION:We are so happy to be meeting face-to-face again.\n\nPlease joi
 n your colleagues and the Board of Directors for the annual MCDS election 
 and holiday social. We are doing a super safe "toy drive" this year - cons
 ider donating a gift card or toy online through the North Marin Community 
 Services organization. Space limited to 24.\n\nHappy Holidays to all and w
 e hope to see you on the 14th!\nBoard of Directors Slate 2022:\n\n 	Presid
 ent: Jennifer Brooks\, DMD\n 	President Elect: Raul Contreras\, DMD\n 	Sec
 retary/Treasurer: Vacant\n 	Director at Large (Incumbent): Greg Miller\, D
 DS\, MS\n 	Director at Large (Incumbent): Rosemarie Goldstein\, DDS\n 	Dir
 ector at Large (Incumbent): Sarah Wilsey\, DDS\n 	Trustee: Ana Amaya\, DDS
 \, MS\n 	Immediate Past President: Sophie Taylor\, DDS\n 	Editor: Vacant\n
CATEGORIES:General
LOCATION:McInnis Park Club Restaurant\, 350 Smith Ranch Road\, San Rafael\,
  California\, 94903\, Marin County\, United States
GEO:38.021814;-122.519899
X-APPLE-STRUCTURED-LOCATION;VALUE=URI;X-ADDRESS=350 Smith Ranch Road\, San 
 Rafael\, California\, 94903\, Marin County\, United States;X-APPLE-RADIUS=
 100;X-TITLE=McInnis Park Club Restaurant:geo:38.021814,-122.519899
END:VEVENT
END:VCALENDAR