BEGIN:VCALENDAR
VERSION:2.0
PRODID:-//wp-events-plugin.com//7.2.3.1//EN
TZID:America/Los_Angeles
X-WR-TIMEZONE:America/Los_Angeles
BEGIN:VEVENT
UID:125@posts.marindentalsociety.org
DTSTART;TZID=America/Los_Angeles:20260409T183000
DTEND;TZID=America/Los_Angeles:20260409T203000
DTSTAMP:20260115T203820Z
URL:https://posts.marindentalsociety.org/events/april-bls-cpr-renewal-2026
 /
SUMMARY:April BLS / CPR Renewal 2026
DESCRIPTION:Register Here for Thursday\, April 9\, 2026\n\nEarn: CPR Certif
 icate &amp\; 2 CE Units\n\nYou must have a certificate that hasn't yet exp
 ired to take the renewal course. If your certificate has expired\, you wil
 l have to take an additional online course (Blended) on your own\, plus at
 tend the course and skills verification in person. Click on the link above
  for more details.\n\nUse code: MCDS when checking out for your $10 membe
 r discount (members and their staff). \n\nHere is the full schedule with
  a drop down menu of all locations available.
ATTACH;FMTTYPE=image/jpeg:https://i0.wp.com/posts.marindentalsociety.org/w
 p-content/uploads/2021/12/2020-bls.jpg?fit=424%2C560&ssl=1
CATEGORIES:All BLS / CPR Courses,Continuing Education
LOCATION:Marin County Dental Society - Muir Conference Room\, 175 N Redwood
  Dr Ste. 130\, San Rafael\, California\, 94903\, Marin County\, United Sta
 tes
GEO:38.023681;-122.536604
X-APPLE-STRUCTURED-LOCATION;VALUE=URI;X-ADDRESS=175 N Redwood Dr Ste. 130\,
  San Rafael\, California\, 94903\, Marin County\, United States;X-APPLE-RA
 DIUS=100;X-TITLE=Marin County Dental Society - Muir Conference Room:geo:38
 .023681,-122.536604
END:VEVENT
BEGIN:VTIMEZONE
TZID:America/Los_Angeles
X-LIC-LOCATION:America/Los_Angeles
BEGIN:DAYLIGHT
DTSTART:20260308T030000
TZOFFSETFROM:-0800
TZOFFSETTO:-0700
TZNAME:PDT
END:DAYLIGHT
END:VTIMEZONE
END:VCALENDAR