BEGIN:VCALENDAR
VERSION:2.0
PRODID:-//wp-events-plugin.com//7.2.3.1//EN
TZID:America/Los_Angeles
X-WR-TIMEZONE:America/Los_Angeles
BEGIN:VEVENT
UID:18@posts.marindentalsociety.org
DTSTART:20220811T183000Z
DTEND:20220811T203000Z
DTSTAMP:20220810T040618Z
URL:https://posts.marindentalsociety.org/events/august-bls-cpr-renewal/
SUMMARY:August BLS / CPR Renewal - CANCELLED due to low enrollment
DESCRIPTION:Register Here for Thursday\, August 11\, 2022\n\nSurvival CPR h
 as additional courses at different locations and are offering a $10 discou
 nt to MCDS members if you need to take a course sooner than we offer it or
  in a different location. Use code: MCDS when checking out. Here is the fu
 ll schedule with a drop down menu of all locations.
ATTACH;FMTTYPE=image/jpeg:https://i0.wp.com/posts.marindentalsociety.org/w
 p-content/uploads/2021/12/2020-bls.jpg?fit=424%2C560&ssl=1
CATEGORIES:All BLS / CPR Courses
LOCATION:Marin County Dental Society - Muir Conference Room\, 175 N Redwood
  Dr Ste. 130\, San Rafael\, California\, 94903\, Marin County\, United Sta
 tes
GEO:38.023681;-122.536604
X-APPLE-STRUCTURED-LOCATION;VALUE=URI;X-ADDRESS=175 N Redwood Dr Ste. 130\,
  San Rafael\, California\, 94903\, Marin County\, United States;X-APPLE-RA
 DIUS=100;X-TITLE=Marin County Dental Society - Muir Conference Room:geo:38
 .023681,-122.536604
END:VEVENT
END:VCALENDAR