BEGIN:VCALENDAR
VERSION:2.0
PRODID:-//wp-events-plugin.com//7.2.3.1//EN
TZID:America/Los_Angeles
X-WR-TIMEZONE:America/Los_Angeles
BEGIN:VEVENT
UID:115@posts.marindentalsociety.org
DTSTART;TZID=America/Los_Angeles:20240927T120000
DTEND;TZID=America/Los_Angeles:20240928T180000
DTSTAMP:20240209T070041Z
URL:https://posts.marindentalsociety.org/events/bay-area-dental-expo-2/
SUMMARY:Bay Area Dental Expo
DESCRIPTION:SAVE THE DATE\n\nJoin us September 27 &amp\; 28 for two days of
  dental innovation.\n\nMore information and registration coming soon...\n\
 n&nbsp\;
ATTACH;FMTTYPE=image/jpeg:https://i0.wp.com/posts.marindentalsociety.org/w
 p-content/uploads/2024/02/Expo_SaveTheDate_SocialMediaSquare.jpg?fit=1200%
 2C1200&ssl=1
CATEGORIES:Continuing Education,General
LOCATION:Santa Clara Convention Center\, 5001 Great America Parkway\, Santa
  Clara\, CA\, United States
X-APPLE-STRUCTURED-LOCATION;VALUE=URI;X-ADDRESS=5001 Great America Parkway\
 , Santa Clara\, CA\, United States;X-APPLE-RADIUS=100;X-TITLE=Santa Clara 
 Convention Center:geo:0,0
END:VEVENT
BEGIN:VTIMEZONE
TZID:America/Los_Angeles
X-LIC-LOCATION:America/Los_Angeles
BEGIN:DAYLIGHT
DTSTART:20240310T030000
TZOFFSETFROM:-0800
TZOFFSETTO:-0700
TZNAME:PDT
END:DAYLIGHT
END:VTIMEZONE
END:VCALENDAR