BEGIN:VCALENDAR
VERSION:2.0
PRODID:-//wp-events-plugin.com//7.2.3.1//EN
TZID:America/Los_Angeles
X-WR-TIMEZONE:America/Los_Angeles
BEGIN:VEVENT
UID:142@posts.marindentalsociety.org
DTSTART;TZID=America/Los_Angeles:20250822T090000
DTEND;TZID=America/Los_Angeles:20250823T150000
DTSTAMP:20250718T201508Z
URL:https://posts.marindentalsociety.org/events/bay-area-dental-expo-2025/
SUMMARY:Bay Area Dental Expo 2025
DESCRIPTION:SAVE THE DATE\n\nIt's Back! Now in our second year\, the Bay Ar
 ea Dental Expo is a first-of-its kind conference in the heart of the Silic
 on Valley focusing on technology\, innovation\, research and ideas that wi
 ll shape the future of dentistry.\n\nJoin us August 22 - 23 for two days o
 f dental innovation and continuing education at the Santa Clara Convention
  Center. Check out the flyer to claim your Coalition Society discount when
  you register.\n\nDownload the Flyer\n\n&nbsp\;
ATTACH;FMTTYPE=image/jpeg:https://posts.marindentalsociety.org/wp-content/
 uploads/2025/07/Expo-MARIN-Flyer-Print-2-pdf.jpg
CATEGORIES:Continuing Education,General
LOCATION:Santa Clara Convention Center\, 5001 Great America Parkway\, Santa
  Clara\, CA\, United States
X-APPLE-STRUCTURED-LOCATION;VALUE=URI;X-ADDRESS=5001 Great America Parkway\
 , Santa Clara\, CA\, United States;X-APPLE-RADIUS=100;X-TITLE=Santa Clara 
 Convention Center:geo:0,0
END:VEVENT
BEGIN:VTIMEZONE
TZID:America/Los_Angeles
X-LIC-LOCATION:America/Los_Angeles
BEGIN:DAYLIGHT
DTSTART:20250309T030000
TZOFFSETFROM:-0800
TZOFFSETTO:-0700
TZNAME:PDT
END:DAYLIGHT
END:VTIMEZONE
END:VCALENDAR