BEGIN:VCALENDAR
VERSION:2.0
PRODID:-//wp-events-plugin.com//7.2.3.1//EN
TZID:America/Los_Angeles
X-WR-TIMEZONE:America/Los_Angeles
BEGIN:VEVENT
UID:169@posts.marindentalsociety.org
DTSTART;TZID=America/Los_Angeles:20260821T090000
DTEND;TZID=America/Los_Angeles:20260822T150000
DTSTAMP:20260414T190830Z
URL:https://posts.marindentalsociety.org/events/bay-area-dental-expo-2026/
SUMMARY:Bay Area Dental Expo 2026
DESCRIPTION:SAVE THE DATE - Get your tickets today! Coalition Members just 
 $59\, staff $39\n\nIt's Back! Now in our third year\, the Bay Area Dental 
 Expo is a first-of-its kind conference in the heart of the Silicon Valley 
 focusing on technology\, innovation\, research and ideas that will shape t
 he future of dentistry. Get 11 CE credits in one event.\n\nJoin us August 
 21 - 22 for two days of dental innovation and continuing education at the 
 Santa Clara Convention Center. Check out the Speaker Lineup\, FAQ page for
  hotel and event info and/or reach out to MCDS with questions.\n\nGet Tix
ATTACH;FMTTYPE=image/jpeg:https://i0.wp.com/posts.marindentalsociety.org/w
 p-content/uploads/2026/04/dental-expo-icon-2026.png?fit=504%2C504&ssl=1
CATEGORIES:Continuing Education,General
LOCATION:Santa Clara Convention Center\, 5001 Great America Parkway\, Santa
  Clara\, CA\, United States
X-APPLE-STRUCTURED-LOCATION;VALUE=URI;X-ADDRESS=5001 Great America Parkway\
 , Santa Clara\, CA\, United States;X-APPLE-RADIUS=100;X-TITLE=Santa Clara 
 Convention Center:geo:0,0
END:VEVENT
BEGIN:VTIMEZONE
TZID:America/Los_Angeles
X-LIC-LOCATION:America/Los_Angeles
BEGIN:DAYLIGHT
DTSTART:20260308T030000
TZOFFSETFROM:-0800
TZOFFSETTO:-0700
TZNAME:PDT
END:DAYLIGHT
END:VTIMEZONE
END:VCALENDAR