BEGIN:VCALENDAR
VERSION:2.0
PRODID:-//wp-events-plugin.com//7.2.3.1//EN
TZID:America/Los_Angeles
X-WR-TIMEZONE:America/Los_Angeles
BEGIN:VEVENT
UID:5@posts.marindentalsociety.org
DTSTART;TZID=America/Los_Angeles:20211118T183000
DTEND;TZID=America/Los_Angeles:20211118T203000
DTSTAMP:20211103T045608Z
URL:https://posts.marindentalsociety.org/events/bls-cpr-renewal/
SUMMARY:BLS / CPR Renewal
DESCRIPTION:
CATEGORIES:All BLS / CPR Courses
LOCATION:Marin County Dental Society - Muir Conference Room\, 175 N Redwood
  Dr Ste. 130\, San Rafael\, California\, 94903\, Marin County\, United Sta
 tes
GEO:38.023681;-122.536604
X-APPLE-STRUCTURED-LOCATION;VALUE=URI;X-ADDRESS=175 N Redwood Dr Ste. 130\,
  San Rafael\, California\, 94903\, Marin County\, United States;X-APPLE-RA
 DIUS=100;X-TITLE=Marin County Dental Society - Muir Conference Room:geo:38
 .023681,-122.536604
END:VEVENT
BEGIN:VTIMEZONE
TZID:America/Los_Angeles
X-LIC-LOCATION:America/Los_Angeles
BEGIN:STANDARD
DTSTART:20211107T010000
TZOFFSETFROM:-0700
TZOFFSETTO:-0800
TZNAME:PST
END:STANDARD
END:VTIMEZONE
END:VCALENDAR