BEGIN:VCALENDAR
VERSION:2.0
PRODID:-//wp-events-plugin.com//7.2.3.1//EN
TZID:America/Los_Angeles
X-WR-TIMEZONE:America/Los_Angeles
BEGIN:VEVENT
UID:93@posts.marindentalsociety.org
DTSTART;TZID=America/Los_Angeles:20231020T100000
DTEND;TZID=America/Los_Angeles:20231020T150000
DTSTAMP:20231014T050833Z
URL:https://posts.marindentalsociety.org/events/cda-wellness-program-train
 ing/
SUMMARY:CDA Wellness Program Training
DESCRIPTION:It’s not too late! Registration for in-person attendance is l
 imited\, but there are still a few spaces available for CDA Foundation’
 s annual Wellness Program Training. Register now to support our collecti
 ve wellness efforts.\n\nCome connect with program volunteers and component
  executive directors\, while we learn together during this in-person and v
 irtual event.\n\nTheme: Compassion\nDate: Friday\, October 20\, 2023\nTim
 e: 10:00 a.m. – 3:00 p.m.\nLocation: CDA\, 1201 K Street\, Sacramento 
 or virtually on Zoom\n\nGet an overview of the program and its processes 
 and learn more about the importance of overall wellness\, including compas
 sionate leadership and stress management. Your participation will help mov
 e our wellness efforts forward.
CATEGORIES:General
END:VEVENT
BEGIN:VTIMEZONE
TZID:America/Los_Angeles
X-LIC-LOCATION:America/Los_Angeles
BEGIN:DAYLIGHT
DTSTART:20230312T030000
TZOFFSETFROM:-0800
TZOFFSETTO:-0700
TZNAME:PDT
END:DAYLIGHT
END:VTIMEZONE
END:VCALENDAR