BEGIN:VCALENDAR
VERSION:2.0
PRODID:-//wp-events-plugin.com//7.2.3.1//EN
TZID:America/Los_Angeles
X-WR-TIMEZONE:America/Los_Angeles
BEGIN:VEVENT
UID:112@posts.marindentalsociety.org
DTSTART;TZID=America/Los_Angeles:20241017T180000
DTEND;TZID=America/Los_Angeles:20241017T210000
DTSTAMP:20241005T123650Z
URL:https://posts.marindentalsociety.org/events/ce-dinner-meeting-a-practi
 ce-owners-guide-to-the-business-side-of-dentistry/
SUMMARY:CE / Dinner Meeting: A Practice Owner's Guide to the Business Side 
 of Dentistry
DESCRIPTION:Speaker\n\nChad Tothero\, 4 Quadrants Advisory\n\n&nbsp\;\n\n\n
 \nCourse Description\n\nLearn how different aspects of your finances are i
 nterconnected\, including cashflow\,\nretirement\, accounting\, taxes\, ov
 erhead\, and investments. Without proper systems and\nprocesses\, your fin
 ances can become unbalanced.\n\nMaster the rules to enhance your cashflow 
 and triumph over inadequate insurance\nreimbursements. Discover the perfec
 t account balances that guarantee financial stability\nand consistency. Ad
 ditionally\, learn how to structure your income to reduce tax liabilities\
 nand amplify your retirement savings.\n\nIt is crucial to have proper dent
 al accounting processes\, timely account reconciliation\,\nand a detailed 
 chart of accounts to control overhead and avoid tax surprises.\nHear how y
 our peers became financially stronger without changing their lifestyles\nt
 hrough real-life success stories and strategies covered in this course.\n\
 nIt is important to give the same amount of expertise to the business side
  of your practice\nas you do to the clinical side. Doing so can result in 
 a 7- to 8-figure difference over your\nentire career.\n\nProgram Highlight
 s/Objectives\n\n 	Uncover the biggest business challenges in dentistry\n 	
 Identify problem areas that prevent maximizing cashflow\n 	Discover action
 able strategies to improve your practice and personal finances\n 	Hear rea
 l-life success stories and examine case studies from your peers\n 	Overcom
 e poor insurance reimbursements\n 	Realize tax surprises should not be acc
 eptable\n\nTable Clinic 6:00pm: 1 CE\n\nCourse 7:00-9:00pm: 2 CE\n\nSpeake
 r Sponsored by 4 Quadrants Advisory\n\nBio:\n\nChad is originally from the
  Philadelphia area and graduated from Franklin &amp\; Marshall College wit
 h degrees in Business and Public Policy. During his time in college\, Chad
  was actively involved in varsity athletics and a multitude of community s
 ervice initiatives\, which ultimately led to him being selected for the ES
 PN Allstate AFCA Good Works Team.\n\nIn his current role\, Chad combines h
 is competitiveness and passion for helping others by coaching practice own
 ers how to win through capturing more for their scoreboards (i.e.\, take-h
 ome pay\, retirement savings\, net worth\, etc.) He educates dentists and 
 dental specialists at national\, state\, and local levels on a crucial\, y
 et underserved topic worth millions of dollars — the business side of de
 ntistry.\n\nAs a new dad\, Chad enjoys spending what little free time he h
 as with his wife\, Natalie\, their son\, River\, and their two dogs\, Oakl
 eigh and Rosie.\n\nOther Details:\n\nIf you are registering more than one 
 member or staff\, please add their name/s in the Additional Registrants ba
 r.\n\nWe are back to a buffet style dinner at McInnis - if you have any co
 ncern\, please email staff and we can make accommodations for you - exec@m
 arindentalsociety.org
CATEGORIES:Continuing Education
LOCATION:McInnis Park Club Restaurant\, 350 Smith Ranch Road\, San Rafael\,
  California\, 94903\, Marin County\, United States
GEO:38.021814;-122.519899
X-APPLE-STRUCTURED-LOCATION;VALUE=URI;X-ADDRESS=350 Smith Ranch Road\, San 
 Rafael\, California\, 94903\, Marin County\, United States;X-APPLE-RADIUS=
 100;X-TITLE=McInnis Park Club Restaurant:geo:38.021814,-122.519899
END:VEVENT
BEGIN:VTIMEZONE
TZID:America/Los_Angeles
X-LIC-LOCATION:America/Los_Angeles
BEGIN:DAYLIGHT
DTSTART:20240310T030000
TZOFFSETFROM:-0800
TZOFFSETTO:-0700
TZNAME:PDT
END:DAYLIGHT
END:VTIMEZONE
END:VCALENDAR