BEGIN:VCALENDAR
VERSION:2.0
PRODID:-//wp-events-plugin.com//7.2.3.1//EN
TZID:America/Los_Angeles
X-WR-TIMEZONE:America/Los_Angeles
BEGIN:VEVENT
UID:139@posts.marindentalsociety.org
DTSTART;TZID=America/Los_Angeles:20250918T180000
DTEND;TZID=America/Los_Angeles:20250918T210000
DTSTAMP:20250909T210041Z
URL:https://posts.marindentalsociety.org/events/ce-dinner-meeting-endodont
 ic-treatment-and-dental-implants-evidence-based-decision-making-in-clinica
 l-practice/
SUMMARY:CE / Dinner Meeting - Endodontic Treatment and Dental Implants: Evi
 dence-Based Decision-Making in Clinical Practice
DESCRIPTION:Course Title: Endodontic Treatment and Dental Implants: Evidenc
 e-Based Decision-Making in Clinical Practice\nSpeaker: Dr. Samer M. Ebeid\
 , DDS\n\n\n\n\n\n\n\n\n\nCourse Description:\nIn the ever-evolving landsca
 pe of restorative dentistry\, clinicians are frequently faced with the cri
 tical decision of whether to retain a natural tooth through endodontic the
 rapy or to extract and replace it with a dental implant. This lecture is d
 esigned to guide dental professionals through an evidence-based\, clinical
 ly grounded approach to treatment planning when choosing between endodonti
 c treatment and implant placement.\n\nThe presentation will highlight the 
 long-term success and predictability of modern endodontic therapy through 
 real-world cases and clinical outcomes. Attendees will gain insight into h
 ow to critically evaluate the restorability and prognosis of compromised t
 eeth\, review key prognostic factors influencing both modalities\, and app
 ly current research to make informed\, patient-centered treatment decision
 s.\nThrough a balanced\, data-driven perspective\, participants will leave
  with a clearer understanding of:\n\n\n 	The comparative success\, surviva
 l\, and complication rates of endodontically treated teeth versus dental i
 mplants.\n 	Clinical criteria to determine when to save a tooth or replace
  it.\n 	Risk assessment and patient-specific considerations influencing tr
 eatment choice.\n 	The role of interdisciplinary collaboration in achievin
 g optimal outcomes.\n\nWhether you're a general practitioner or a speciali
 st\, this session aims to strengthen your diagnostic confidence\, improve 
 your treatment planning strategies\, and reinforce the value of preserving
  the natural dentition when appropriate. Staff are also welcome.
ATTACH;FMTTYPE=image/jpeg:https://i0.wp.com/posts.marindentalsociety.org/w
 p-content/uploads/2025/05/ENDO-IMPLANTS_2025-09-18.png?fit=2000%2C943&ssl=
 1
CATEGORIES:Continuing Education
LOCATION:McInnis Park Club Restaurant\, 350 Smith Ranch Road\, San Rafael\,
  California\, 94903\, Marin County\, United States
GEO:38.021814;-122.519899
X-APPLE-STRUCTURED-LOCATION;VALUE=URI;X-ADDRESS=350 Smith Ranch Road\, San 
 Rafael\, California\, 94903\, Marin County\, United States;X-APPLE-RADIUS=
 100;X-TITLE=McInnis Park Club Restaurant:geo:38.021814,-122.519899
END:VEVENT
BEGIN:VTIMEZONE
TZID:America/Los_Angeles
X-LIC-LOCATION:America/Los_Angeles
BEGIN:DAYLIGHT
DTSTART:20250309T030000
TZOFFSETFROM:-0800
TZOFFSETTO:-0700
TZNAME:PDT
END:DAYLIGHT
END:VTIMEZONE
END:VCALENDAR