BEGIN:VCALENDAR
VERSION:2.0
PRODID:-//wp-events-plugin.com//7.2.3.1//EN
TZID:America/Los_Angeles
X-WR-TIMEZONE:America/Los_Angeles
BEGIN:VEVENT
UID:138@posts.marindentalsociety.org
DTSTART;TZID=America/Los_Angeles:20250522T180000
DTEND;TZID=America/Los_Angeles:20250522T210000
DTSTAMP:20250521T003627Z
URL:https://posts.marindentalsociety.org/events/ce-dinner-meeting-integrat
 ing-ai-into-your-practice/
SUMMARY:CE / Dinner Meeting: Integrating Artificial Intelligence (AI) into 
 Your Practice
DESCRIPTION:Course: Top Ways to Start Integrating Artificial Intelligence i
 nto Your Dental Practice\n\nSpeaker: \nDr. Vinni K. Singh\, DDS\n\n\n&nbsp
 \;\n\nDr. Vinni K. Singh\, DDS\, AFAAID\, is the Founder and CEO of DentSc
 ribe and owns a successful\, private dental practice in San Jose\, CA. She
  graduated from the University of the Pacific Arthur A. Dugoni School of D
 entistry and earned a dental implant certificate from Loma Linda Universit
 y. Dr. Singh's dedication to diversity and leadership in the dental commun
 ity is evident through her selection for the American Dental Association's
  Institute for Diversity in Leadership academy and her role as Dental Dire
 ctor for a federally qualified health center. As a Kois-trained dentist an
 d Associate Fellow of the American Academy of Implant Dentistry\, she acti
 vely participates in the Seattle Study Club and the Kois Study Club in San
  Francisco. Dr. Singh has spoken at numerous conferences\, sharing her exp
 ertise on dental innovations\, leadership\, and practice management. Her p
 assion for integrating advanced technologies into dental practice manageme
 nt positions her as a thought leader\, helping dental professionals achiev
 e excellence in patient care and operations.\n\nDr. Singh can be reached a
 t drsingh@dentscribe.ai\n\n&nbsp\;\n\nSponsor: Overjet Ai\n\nTable Clinics
 : Overjet Ai\, DentScribe\, Jazz Imaging\, Blende Dental Group\n\n 	Table 
 Clinic/Social Hour: 6pm\n 	Dinner: 6:30pm\n 	Vendor Presentation: 6:50pm\n
  	Dr. Singh Presentation: 7-9pm\n 	3 CEs\n\nCourse: \n\nArtificial intell
 igence (AI) is transforming the dental industry\, offering innovative solu
 tions to enhance the efficiency\, effectiveness\, and overall patient expe
 rience in dental practices. This course will explore several ways AI can b
 e integrated into dental practices\, providing practical insights and acti
 onable strategies for dentists and dental staff.\n\nLearning Objectives:\n
 \n 	Understand what AI is\, is not\, and its limitations.\n 	Learn how to 
 improve patient communication and engagement using AI.\n 	Discover AI-driv
 en tools for marketing and social media management.\n 	Explore AI solution
 s for creating and optimizing website content.\n 	Understand how AI can as
 sist in performance appraisals and feedback.\n 	Learn about AI tools for e
 nhancing documentation and patient care.\n\nCourse Highlights:\n\nParticip
 ants will gain an understanding of how AI can revolutionize their dental p
 ractice by improving patient communication\, marketing efforts\, and admin
 istrative tasks. They will learn about AI-driven tools for creating engagi
 ng content\, automating routine tasks\, and providing personalized patient
  care. The course will also introduce a tool designed to simplify document
 ation and improve accuracy in patient records.
CATEGORIES:Continuing Education
LOCATION:McInnis Park Club Restaurant\, 350 Smith Ranch Rd\, San Rafael\, C
 A\, United States
X-APPLE-STRUCTURED-LOCATION;VALUE=URI;X-ADDRESS=350 Smith Ranch Rd\, San Ra
 fael\, CA\, United States;X-APPLE-RADIUS=100;X-TITLE=McInnis Park Club Res
 taurant:geo:0,0
END:VEVENT
BEGIN:VTIMEZONE
TZID:America/Los_Angeles
X-LIC-LOCATION:America/Los_Angeles
BEGIN:DAYLIGHT
DTSTART:20250309T030000
TZOFFSETFROM:-0800
TZOFFSETTO:-0700
TZNAME:PDT
END:DAYLIGHT
END:VTIMEZONE
END:VCALENDAR