BEGIN:VCALENDAR
VERSION:2.0
PRODID:-//wp-events-plugin.com//7.2.3.1//EN
TZID:America/Los_Angeles
X-WR-TIMEZONE:America/Los_Angeles
BEGIN:VEVENT
UID:140@posts.marindentalsociety.org
DTSTART;TZID=America/Los_Angeles:20251016T180000
DTEND;TZID=America/Los_Angeles:20251016T210000
DTSTAMP:20251015T222205Z
URL:https://posts.marindentalsociety.org/events/ce-dinner-meeting-oral-cav
 ity-acid-attack/
SUMMARY:CE / Dinner Meeting: The Oral Cavity Under Acid Attack…Identifyin
 g\, Understanding\, and Treating Caries\, Erosion\, and Other Acid-Related
  Diseases
DESCRIPTION:*Course Change\nNew Course: \nThe Oral Cavity Under Acid Attack
 …Identifying\, Understanding\, and Treating Caries\, Erosion\, and Other
  Acid-Related Diseases\nSpeaker: Dr. Marc Geissberger\, DDS\n\nSpeaker Bio
 :  Dr. Marc Geissberger taught at University of the Pacific for 30 years 
 and served as department chair of Integrated Reconstructive Dental Science
 s for 15 years. He ran Pacific’s prestigious complex and esthetic rehabi
 litation program. He is a fellow of the American Dental Education Associat
 ion’s leadership institute\, researcher\, as well as a published author 
 in the areas of dental materials\, contemporary fixed prosthodontics\, and
  esthetic dentistry. He has lectured nationally and internationally in the
  areas of adhesive dentistry\, cosmetic dentistry\, photography\, ceramic\
 , fixed prosthodontics and treatment planning. Dr. Geissberger serves as a
  consultant for many dental materials companies and helps guide product de
 velopment. During his 30 years in academia he has maintained a private pra
 ctice geared toward restorative dentistry with his brother and fellow Paci
 fic alum Dr. Jeffrey Geissberger. He believes his continual involvement in
  providing patient care as well as a role in academia has given him a uniq
 ue balance that allows him to blend the best of both worlds.\nCourse Descr
 iption:\n\n\n\n\n\nAs a dentist\, personal trainer and fitness nutrition s
 pecialist\, Dr. Geissberger brings a unique perspective to the subjects of
  caries\, diet and the oral environment. Through this enlightening program
 \, Dr. Geissberger will discuss various disease conditions that plague the
  entire dental population and identify several at risk populations. The im
 portance of oral pH will be discussed and strategies for altering an unfav
 orable oral environment will be outlined. Additionally\, the dental team w
 ill learn progressive strategies to help their patients achieve oral balan
 ce and curb their disease processes. Nutrition and diet control will be di
 scussed extensively.\n\nAt the completion of this program\, clinicians wil
 l:\n\n\n\n\n 	Understand the difference between a balanced oral environmen
 t and one that is susceptible to disease\n 	Develop strategies which can b
 e implemented in practice to help patients achieve oral balance\n 	Develop
  a program for caries eradication that can be easily implemented into priv
 ate practice\n 	Develop strategies to begin to discuss the oral implicatio
 ns of poor eating strategies and provide some tips\n 	Learn which material
 s should be used and how to properly restore dentitions plagued with the e
 ffects of erosion\, abrasion\, GERD and bulimia\n\nIn collaboration with C
 atapult Education\n\nSponsored by Kettenbach\, Solventum\, VOCO\, Elegant 
 Dental Labs (not attending)\n\nAdditional Table Clinic Exhibitors: Enova L
 oupes &amp\; West Coast Precious Metals\n\n\n\n
ATTACH;FMTTYPE=image/jpeg:https://i0.wp.com/posts.marindentalsociety.org/w
 p-content/uploads/2025/05/Acid-Attack_2025-10-16-scaled.png?fit=2560%2C120
 7&ssl=1
CATEGORIES:Continuing Education
LOCATION:McInnis Park Club Restaurant\, 350 Smith Ranch Road\, San Rafael\,
  California\, 94903\, Marin County\, United States
GEO:38.021814;-122.519899
X-APPLE-STRUCTURED-LOCATION;VALUE=URI;X-ADDRESS=350 Smith Ranch Road\, San 
 Rafael\, California\, 94903\, Marin County\, United States;X-APPLE-RADIUS=
 100;X-TITLE=McInnis Park Club Restaurant:geo:38.021814,-122.519899
END:VEVENT
BEGIN:VTIMEZONE
TZID:America/Los_Angeles
X-LIC-LOCATION:America/Los_Angeles
BEGIN:DAYLIGHT
DTSTART:20250309T030000
TZOFFSETFROM:-0800
TZOFFSETTO:-0700
TZNAME:PDT
END:DAYLIGHT
END:VTIMEZONE
END:VCALENDAR