BEGIN:VCALENDAR
VERSION:2.0
PRODID:-//wp-events-plugin.com//7.2.3.1//EN
TZID:America/Los_Angeles
X-WR-TIMEZONE:America/Los_Angeles
BEGIN:VEVENT
UID:106@posts.marindentalsociety.org
DTSTART;TZID=America/Los_Angeles:20241121T180000
DTEND;TZID=America/Los_Angeles:20241121T210000
DTSTAMP:20241122T102816Z
URL:https://posts.marindentalsociety.org/events/ce-dinner-meeting-rm-101-r
 isk-management-essential-concepts-2024/
SUMMARY:CE / Dinner Meeting: RM 101 Risk Management Essential Concepts
DESCRIPTION:Course Description\nThis presentation focuses on the basics of 
 risk management. The Dentists Insurance Company (TDIC) has developed this 
 course to show dentists how they can minimize their risk and help them def
 ine their rights and responsibilities\, as a dentist\, as an employer and 
 as a business owner.  Dentists will be able to identify and minimize loss
  exposures while utilizing key risk management principles.\nLearning Objec
 tives\n\n\nAdopt a proactive versus reactive approach\nUnderstand the im
 portance of patient selection\, informed consent\, and documentation\nIden
 tify situations that lead to EPL claims\nImplement protocols to protect 
 your practice\n\nTable Clinic 6:00: 1 CE\nCourse 7:00-9:00pm: 2 CEs\nSpeak
 ers \nTaiba Solaiman\, PHR\, RDA\n\n\nMs. Solaiman is a representative in
  the Resource Center for the California Dental Association.  In 2007\, Ms
 . Solaiman moved to TDIC’s Risk Management department initially as a Ris
 k Management Analyst\, later promoting into her current role as a Senior A
 nalyst.  Ms. Solaiman’s career has exclusively focused upon the dental 
 industry through her various roles as Registered Dental Assistant\, Dental
  Assisting Instructor and Client Consultant for a privately held OSHA Revi
 ew company.  She attained a certification in Professional Human Resources
  (PHR) in 2017 to further her knowledge and understanding of employment la
 ws and regulations.  She shares her extensive background and expertise by
  speaking nationally representing the company at seminars\, dental convent
 ions\, dental schools and participating dental societies.  She is the man
 aging writer for the quarterly risk management publication\, Liability Li
 feline newsletter and the monthly edition of RM Matters. Ms. Solaiman l
 eads the development and content creation on behalf of the risk management
  department for seminars and multiple resource offerings including informe
 d consents/practice focused sample forms and reference guides. She also ad
 vises dentists in the areas of professional and employment liability\, pro
 perty and cyber risk management.  Taiba is committed to leading and devel
 oping strategic risk management services\, support\, education and trainin
 g for the dental profession.Solaiman is a Senior Risk Management Analyst w
 ith TDIC.  She joined the organization in 2003 as a service representativ
 e.\nRon Goldman\, Esq.\nMr. Goldman graduated cum laude with his political
  science degree from California State University\, Northridge\, in 1978. H
 e attended California Western School of Law in San Diego\, receiving his J
 uris Doctor in 1981. Mr. Goldman has been practicing law for 37 years with
  extensive trial experience defending physicians and dentists in malpracti
 ce cases\, employment matters\, licensing boards and business litigation. 
 Given his extensive jury trial experience\, Mr. Goldman was voted by his p
 eers into the American Board of Trial Advocates in 2005 and voted into the
  California Medical Legal Committee in 2015.  Mr. Goldman participates in
  a variety of professional lectures on an annual basis\, most recently pro
 viding a mock deposition presentation to the Emergency Room physicians at 
 Alta Bates Hospital (Oakland\, CA). He is also presently an Assistant Adju
 nct Professor at the Arthur A. Dugoni School of Dentistry and the Universi
 ty of California San Francisco School of Dentistry.\nSponsored by TDIC\n\n
 &nbsp\;
CATEGORIES:Continuing Education
LOCATION:McInnis Park Club Restaurant\, 350 Smith Ranch Road\, San Rafael\,
  California\, 94903\, Marin County\, United States
GEO:38.021814;-122.519899
X-APPLE-STRUCTURED-LOCATION;VALUE=URI;X-ADDRESS=350 Smith Ranch Road\, San 
 Rafael\, California\, 94903\, Marin County\, United States;X-APPLE-RADIUS=
 100;X-TITLE=McInnis Park Club Restaurant:geo:38.021814,-122.519899
END:VEVENT
BEGIN:VTIMEZONE
TZID:America/Los_Angeles
X-LIC-LOCATION:America/Los_Angeles
BEGIN:STANDARD
DTSTART:20241103T010000
TZOFFSETFROM:-0700
TZOFFSETTO:-0800
TZNAME:PST
END:STANDARD
END:VTIMEZONE
END:VCALENDAR