BEGIN:VCALENDAR
VERSION:2.0
PRODID:-//wp-events-plugin.com//7.2.3.1//EN
TZID:America/Los_Angeles
X-WR-TIMEZONE:America/Los_Angeles
BEGIN:VEVENT
UID:80@posts.marindentalsociety.org
DTSTART;TZID=America/Los_Angeles:20231130T180000
DTEND;TZID=America/Los_Angeles:20231130T210000
DTSTAMP:20231202T091842Z
URL:https://posts.marindentalsociety.org/events/ce-dinner-meeting-rm-101-r
 isk-management-essential-concepts/
SUMMARY:CE / Dinner Meeting: RM 101 Risk Management Essential Concepts
DESCRIPTION:Table Clinic 6:00: 1 CE\n\nCourse 7:00-9:00pm: 2 CEs\n\nLocatio
 n: Il Davide Restaurant\n\nOne beverage included with dinner.\nCourse Summ
 ary\nThis presentation focuses on the basics of risk management. The Denti
 sts Insurance Company (TDIC) has developed this course to show dentists ho
 w they can minimize their risk and help them define their rights and respo
 nsibilities\, as a dentist\, as an employer and as a business owner.  Den
 tists will be able to identify and minimize loss exposures while utilizing
  key risk management principles.\nCourse Objectives\nAdopt a proactive ve
 rsus reactive approach\nUnderstand the importance of patient selection\, 
 informed consent\, and documentation\nIdentify situations that lead to EP
 L claims\nImplement protocols to protect your practice\n&nbsp\;\nSpeakers
  \nTaiba Solaiman\, PHR\, RDA\n\n\nMs. Solaiman is a Senior Risk Manageme
 nt Analyst with TDIC.  She joined the organization in 2003 as a service r
 epresentative in the Resource Center for the California Dental Association
 .  In 2007\, Ms. Solaiman moved to TDIC’s Risk Management department in
 itially as a Risk Management Analyst\, later promoting into her current ro
 le as a Senior Analyst.  Ms. Solaiman’s career has exclusively focused 
 upon the dental industry through her various roles as Registered Dental As
 sistant\, Dental Assisting Instructor and Client Consultant for a privatel
 y held OSHA Review company.  She attained a certification in Professional
  Human Resources (PHR) in 2017 to further her knowledge and understanding 
 of employment laws and regulations.  She shares her extensive background 
 and expertise by speaking nationally representing the company at seminars\
 , dental conventions\, dental schools and participating dental societies.
   She is the managing writer for the quarterly risk management publicatio
 n\, Liability Lifeline newsletter and the monthly edition of RM Matters
 . Ms. Solaiman leads the development and content creation on behalf of th
 e risk management department for seminars and multiple resource offerings 
 including informed consents/practice focused sample forms and reference gu
 ides. She also advises dentists in the areas of professional and employmen
 t liability\, property and cyber risk management.  Taiba is committed to 
 leading and developing strategic risk management services\, support\, educ
 ation and training for the dental profession.\nRon Goldman\, Esq.\nMr. Gol
 dman graduated cum laude with his political science degree from California
  State University\, Northridge\, in 1978. He attended California Western S
 chool of Law in San Diego\, receiving his Juris Doctor in 1981. Mr. Goldma
 n has been practicing law for 37 years with extensive trial experience def
 ending physicians and dentists in malpractice cases\, employment matters\,
  licensing boards and business litigation. Given his extensive jury trial 
 experience\, Mr. Goldman was voted by his peers into the American Board of
  Trial Advocates in 2005 and voted into the California Medical Legal Commi
 ttee in 2015.  Mr. Goldman participates in a variety of professional lect
 ures on an annual basis\, most recently providing a mock deposition presen
 tation to the Emergency Room physicians at Alta Bates Hospital (Oakland\, 
 CA). He is also presently an Assistant Adjunct Professor at the Arthur A. 
 Dugoni School of Dentistry and the University of California San Francisco 
 School of Dentistry.\n&nbsp\;\n\n&nbsp\;
CATEGORIES:Continuing Education
LOCATION:Il Davide Restaurant\, 901 A St\, San Rafael\, CA\, United States
X-APPLE-STRUCTURED-LOCATION;VALUE=URI;X-ADDRESS=901 A St\, San Rafael\, CA\
 , United States;X-APPLE-RADIUS=100;X-TITLE=Il Davide Restaurant:geo:0,0
END:VEVENT
BEGIN:VTIMEZONE
TZID:America/Los_Angeles
X-LIC-LOCATION:America/Los_Angeles
BEGIN:STANDARD
DTSTART:20231105T010000
TZOFFSETFROM:-0700
TZOFFSETTO:-0800
TZNAME:PST
END:STANDARD
END:VTIMEZONE
END:VCALENDAR