BEGIN:VCALENDAR
VERSION:2.0
PRODID:-//wp-events-plugin.com//7.2.3.1//EN
TZID:America/Los_Angeles
X-WR-TIMEZONE:America/Los_Angeles
BEGIN:VEVENT
UID:166@posts.marindentalsociety.org
DTSTART;TZID=America/Los_Angeles:20260507T180000
DTEND;TZID=America/Los_Angeles:20260507T210000
DTSTAMP:20260319T202923Z
URL:https://posts.marindentalsociety.org/events/ce-dinner-meeting-rm-101-r
 isk-management-essentials-pause-review-assess-respond-2026/
SUMMARY:CE / Dinner Meeting: RM 101 - Risk Management Essentials: Pause\, R
 eview\, Assess\, Respond
DESCRIPTION:Course Description\nThis course provides an introduction to the
  essential principles and practices of risk management. Developed by The D
 entists Insurance Company (TDIC)\, this course is designed to help dental 
 professionals understand and navigate their roles and responsibilities as 
 both clinicians and as employers. Through this course\, dentists will lear
 n how to identify and mitigate their potential loss exposure by applying p
 roven risk management strategies.\nLearning Objectives\n\n\n\n 	Recognize 
 the Benefits of a Strategic Risk Management Plan\n 	Identify Common Risk S
 cenarios that May Lead to a Claim\n 	Incorporate Risk Management Protocols
  to Safeguard Your Practice\n\n\nTable Clinic 6:00pm: 1 CE\nCourse 7:00-9:
 00pm: 2 CEs\nSpeakers \nTaiba Solaiman\, PHR\, RDA\n\n\nMs. Solaiman is a
  representative in the Resource Center for the California Dental Associati
 on.  In 2007\, Ms. Solaiman moved to TDIC’s Risk Management department 
 initially as a Risk Management Analyst\, later promoting into her current 
 role as a Senior Analyst.  Ms. Solaiman’s career has exclusively focuse
 d upon the dental industry through her various roles as Registered Dental 
 Assistant\, Dental Assisting Instructor and Client Consultant for a privat
 ely held OSHA Review company.  She attained a certification in Profession
 al Human Resources (PHR) in 2017 to further her knowledge and understandin
 g of employment laws and regulations.  She shares her extensive backgroun
 d and expertise by speaking nationally representing the company at seminar
 s\, dental conventions\, dental schools and participating dental societies
 .  She is the managing writer for the quarterly risk management publicati
 on\, Liability Lifeline newsletter and the monthly edition of RM Matter
 s. Ms. Solaiman leads the development and content creation on behalf of t
 he risk management department for seminars and multiple resource offerings
  including informed consents/practice focused sample forms and reference g
 uides. She also advises dentists in the areas of professional and employme
 nt liability\, property and cyber risk management.  Taiba is committed to
  leading and developing strategic risk management services\, support\, edu
 cation and training for the dental profession.Solaiman is a Senior Risk Ma
 nagement Analyst with TDIC.  She joined the organization in 2003 as a ser
 vice representative.\nRon Goldman\, Esq.\nMr. Goldman graduated cum laude 
 with his political science degree from California State University\, North
 ridge\, in 1978. He attended California Western School of Law in San Diego
 \, receiving his Juris Doctor in 1981. Mr. Goldman has been practicing law
  for 37 years with extensive trial experience defending physicians and den
 tists in malpractice cases\, employment matters\, licensing boards and bus
 iness litigation. Given his extensive jury trial experience\, Mr. Goldman 
 was voted by his peers into the American Board of Trial Advocates in 2005 
 and voted into the California Medical Legal Committee in 2015.  Mr. Goldm
 an participates in a variety of professional lectures on an annual basis\,
  most recently providing a mock deposition presentation to the Emergency R
 oom physicians at Alta Bates Hospital (Oakland\, CA). He is also presently
  an Assistant Adjunct Professor at the Arthur A. Dugoni School of Dentistr
 y and the University of California San Francisco School of Dentistry.\n&nb
 sp\;\n\n&nbsp\;\n\nJulia Goldman\, Esq.\n\nSponsored by TDIC
ATTACH;FMTTYPE=image/jpeg:https://i0.wp.com/posts.marindentalsociety.org/w
 p-content/uploads/2026/03/RM101_2026-05-07.png?fit=2000%2C873&ssl=1
CATEGORIES:Continuing Education
LOCATION:McInnis Park Club Restaurant\, 350 Smith Ranch Road\, San Rafael\,
  California\, 94903\, Marin County\, United States
GEO:38.021814;-122.519899
X-APPLE-STRUCTURED-LOCATION;VALUE=URI;X-ADDRESS=350 Smith Ranch Road\, San 
 Rafael\, California\, 94903\, Marin County\, United States;X-APPLE-RADIUS=
 100;X-TITLE=McInnis Park Club Restaurant:geo:38.021814,-122.519899
END:VEVENT
BEGIN:VTIMEZONE
TZID:America/Los_Angeles
X-LIC-LOCATION:America/Los_Angeles
BEGIN:DAYLIGHT
DTSTART:20260308T030000
TZOFFSETFROM:-0800
TZOFFSETTO:-0700
TZNAME:PDT
END:DAYLIGHT
END:VTIMEZONE
END:VCALENDAR