BEGIN:VCALENDAR
VERSION:2.0
PRODID:-//wp-events-plugin.com//7.2.3.1//EN
TZID:America/Los_Angeles
X-WR-TIMEZONE:America/Los_Angeles
BEGIN:VEVENT
UID:122@posts.marindentalsociety.org
DTSTART;TZID=America/Los_Angeles:20250227T180000
DTEND;TZID=America/Los_Angeles:20250227T210000
DTSTAMP:20250209T165122Z
URL:https://posts.marindentalsociety.org/events/ce-dinner-meeting-tmj-orof
 acial-pain-perimenopause-menopause/
SUMMARY:New Date - FEB 27 - CE / Dinner Meeting: TMJ\, Orofacial Pain\, Per
 imenopause\, Menopause
DESCRIPTION:Speaker:\n\nDr. Jennifer Buchanan\, DDS\nTable Clinic/Social Ho
 ur: 6pm (1 CE)\n\nPresentation: 7-9pm (2 CE)\nCourse Topics:\n\nTMJ\, Orof
 acial Pain\, Perimenopause\, Menopause\n\nCourse Details forthcoming...
CATEGORIES:Continuing Education
LOCATION:McInnis Park Club Restaurant\, 350 Smith Ranch Rd\, San Rafael\, C
 A\, United States
X-APPLE-STRUCTURED-LOCATION;VALUE=URI;X-ADDRESS=350 Smith Ranch Rd\, San Ra
 fael\, CA\, United States;X-APPLE-RADIUS=100;X-TITLE=McInnis Park Club Res
 taurant:geo:0,0
END:VEVENT
BEGIN:VTIMEZONE
TZID:America/Los_Angeles
X-LIC-LOCATION:America/Los_Angeles
BEGIN:STANDARD
DTSTART:20241103T010000
TZOFFSETFROM:-0700
TZOFFSETTO:-0800
TZNAME:PST
END:STANDARD
END:VTIMEZONE
END:VCALENDAR