BEGIN:VCALENDAR
VERSION:2.0
PRODID:-//wp-events-plugin.com//7.2.3.1//EN
TZID:America/Los_Angeles
X-WR-TIMEZONE:America/Los_Angeles
BEGIN:VEVENT
UID:87@posts.marindentalsociety.org
DTSTART;TZID=America/Los_Angeles:20231012T180000
DTEND;TZID=America/Los_Angeles:20231012T200000
DTSTAMP:20231011T044332Z
URL:https://posts.marindentalsociety.org/events/ce-dinner-meeting-to-contr
 act-or-not-to-contract-working-with-dental-benefit-contracts/
SUMMARY:Switched to VIRTUAL CE Meeting: To Contract or Not to Contract? Wor
 king with Dental Benefit Contracts
DESCRIPTION:Due to low registrations\, we must hold the CE Meeting Virtuall
 y\, link to register below. The restaurant reservation has been cancelled.
 \n\nJoin MCDS as we host Lisa Greer with CDA on this hot topic that's at t
 he forefront of conversations in the dental industry.\n\n&nbsp\;\n\nThere 
 are so many different dental benefits plans on the market\; how do you\nse
 lect the right ones? This lecture will focus on the pros and cons of contr
 acting with dental\nbenefits plans in your practice.\n\n&nbsp\;\n\nLocatio
 n: VIRTUAL\n\nEarn: 2 CE (20%) for attending course\n\n&nbsp\;\n\nYou must
  register in advance for this meeting:\nhttps://us06web.zoom.us/meeting/re
 gister/tZYocu-qqj4sHdJE3AyviuRhyNL4b422mqBo\n\nAfter registering\, you wil
 l receive a confirmation email containing information about joining the me
 eting.\n\n&nbsp\;
CATEGORIES:Continuing Education
END:VEVENT
BEGIN:VTIMEZONE
TZID:America/Los_Angeles
X-LIC-LOCATION:America/Los_Angeles
BEGIN:DAYLIGHT
DTSTART:20230312T030000
TZOFFSETFROM:-0800
TZOFFSETTO:-0700
TZNAME:PDT
END:DAYLIGHT
END:VTIMEZONE
END:VCALENDAR