BEGIN:VCALENDAR
VERSION:2.0
PRODID:-//wp-events-plugin.com//7.2.3.1//EN
TZID:America/Los_Angeles
X-WR-TIMEZONE:America/Los_Angeles
BEGIN:VEVENT
UID:147@posts.marindentalsociety.org
DTSTART;TZID=America/Los_Angeles:20251030T173000
DTEND;TZID=America/Los_Angeles:20251030T190000
DTSTAMP:20251015T215744Z
URL:https://posts.marindentalsociety.org/events/comdaac-open-house/
SUMMARY:COMDAAC Open House
DESCRIPTION:Join the College of Marin's Registered Dental Assisting Program
  for an open house and COMDAAC meeting at the Indian Valley Campus.\n\nLoc
 ation: IVC Building 27\, Room 220\n\nTime: 5:30 - 7:30 PM\n\nCOMDAAC Meeti
 ng: 6:00 PM\n\nLite bites and beverages provided
ATTACH;FMTTYPE=image/jpeg:https://i0.wp.com/posts.marindentalsociety.org/w
 p-content/uploads/2025/10/COMDAAC-Open-House.png?fit=1632%2C2112&ssl=1
CATEGORIES:General
LOCATION:College of Marin Indian Valley Campus\, 1800 Ignacio Blvd\, Novato
 \, United States
X-APPLE-STRUCTURED-LOCATION;VALUE=URI;X-ADDRESS=1800 Ignacio Blvd\, Novato\
 , United States;X-APPLE-RADIUS=100;X-TITLE=College of Marin Indian Valley 
 Campus:geo:0,0
END:VEVENT
BEGIN:VTIMEZONE
TZID:America/Los_Angeles
X-LIC-LOCATION:America/Los_Angeles
BEGIN:DAYLIGHT
DTSTART:20250309T030000
TZOFFSETFROM:-0800
TZOFFSETTO:-0700
TZNAME:PDT
END:DAYLIGHT
END:VTIMEZONE
END:VCALENDAR