BEGIN:VCALENDAR
VERSION:2.0
PRODID:-//wp-events-plugin.com//7.2.3.1//EN
TZID:America/Los_Angeles
X-WR-TIMEZONE:America/Los_Angeles
BEGIN:VEVENT
UID:44@posts.marindentalsociety.org
DTSTART;TZID=America/Los_Angeles:20221117T130000
DTEND;TZID=America/Los_Angeles:20221117T200000
DTSTAMP:20221005T070124Z
URL:https://posts.marindentalsociety.org/events/compliance-in-a-day-osha-i
 nfection-control-ca-dental-practice-act/
SUMMARY:Done in a Day! OSHA | Infection Control | CA Dental Practice Act
DESCRIPTION:Courses hosted by Napa Solano Dental Society virtually.\n6 CEU 
 * Core\n\n$49 for Members\n\n$29 for Staff\nBoth Cal/OSHA and the Dental B
 oard of California have regulations governing infection control practices 
 in dental settings.\n\nInfection Control course required for every license
  renewal period. California Dental Practice Act course required for every 
 license renewal period.\n\nCal/OSHA requires employers to provide bloodbor
 ne pathogens training to occupationally exposed employees upon hire\, and 
 at least annually thereafter.\n\nRegister here&gt\;&gt\;
ATTACH;FMTTYPE=image/jpeg:https://i0.wp.com/posts.marindentalsociety.org/w
 p-content/uploads/2022/09/Infection-Control-1.jpg?fit=2160%2C2160&ssl=1
CATEGORIES:Continuing Education
END:VEVENT
BEGIN:VTIMEZONE
TZID:America/Los_Angeles
X-LIC-LOCATION:America/Los_Angeles
BEGIN:STANDARD
DTSTART:20221106T010000
TZOFFSETFROM:-0700
TZOFFSETTO:-0800
TZNAME:PST
END:STANDARD
END:VTIMEZONE
END:VCALENDAR