BEGIN:VCALENDAR
VERSION:2.0
PRODID:-//wp-events-plugin.com//7.2.3.1//EN
TZID:America/Los_Angeles
X-WR-TIMEZONE:America/Los_Angeles
BEGIN:VEVENT
UID:120@posts.marindentalsociety.org
DTSTART;TZID=America/Los_Angeles:20240829T180000
DTEND;TZID=America/Los_Angeles:20240829T210000
DTSTAMP:20240824T042923Z
URL:https://posts.marindentalsociety.org/events/confab-cocktails-august-ed
 ition/
SUMMARY:Confab + Cocktails (August Edition)
DESCRIPTION:Join the MCDS Board of Directors for Confab + Cocktails in Augu
 st!\n\nMeet colleagues\, new members\, recent grads\, students\, prospecti
 ve members and prospective employees - this is an end of summer social (NO
  CE) designed to get people out\, talking and engaging\; an opportunity to
  share\, get to know each other\, and get involved. Learn more about MCDS 
 and TDIC.\n\nSpace is limited. Reserve your spot today! Apps and drinks co
 urtesy of MCDS and CDA/TDIC!\n
ATTACH;FMTTYPE=image/jpeg:https://i0.wp.com/posts.marindentalsociety.org/w
 p-content/uploads/2024/06/Confab_Cocktails_Boca_2024-08-29-1.png?fit=1587%
 2C2245&ssl=1
CATEGORIES:General
LOCATION:BOCA Pizzeria\, 1544 Redwood Hwy\, Corte Madera\, CA\, United Stat
 es
X-APPLE-STRUCTURED-LOCATION;VALUE=URI;X-ADDRESS=1544 Redwood Hwy\, Corte Ma
 dera\, CA\, United States;X-APPLE-RADIUS=100;X-TITLE=BOCA Pizzeria:geo:0,0
END:VEVENT
BEGIN:VTIMEZONE
TZID:America/Los_Angeles
X-LIC-LOCATION:America/Los_Angeles
BEGIN:DAYLIGHT
DTSTART:20240310T030000
TZOFFSETFROM:-0800
TZOFFSETTO:-0700
TZNAME:PDT
END:DAYLIGHT
END:VTIMEZONE
END:VCALENDAR