BEGIN:VCALENDAR
VERSION:2.0
PRODID:-//wp-events-plugin.com//7.2.3.1//EN
TZID:America/Los_Angeles
X-WR-TIMEZONE:America/Los_Angeles
BEGIN:VEVENT
UID:118@posts.marindentalsociety.org
DTSTART;TZID=America/Los_Angeles:20240711T180000
DTEND;TZID=America/Los_Angeles:20240711T210000
DTSTAMP:20240612T042450Z
URL:https://posts.marindentalsociety.org/events/confab-cocktails-july/
SUMMARY:Confab + Cocktails (July Edition)
DESCRIPTION:Join the MCDS Board of Directors for Confab + Cocktails in July
 !\n\nMeet colleagues\, new members\, recent grads\, students\, prospective
  members and prospective employees - this is a summer social (NO CE) desig
 ned to get people out\, talking and engaging\; an opportunity to share\, g
 et to know each other\, and get involved. Learn more about MCDS and TDIC.\
 n\nSpace is limited to 30 guests. Reserve your spot today! Family style di
 nner and drinks courtesy of MCDS and CDA/TDIC!\n
ATTACH;FMTTYPE=image/jpeg:https://i0.wp.com/posts.marindentalsociety.org/w
 p-content/uploads/2024/06/Confab-and-Cocktails_2024-07-11.png?fit=1080%2C1
 350&ssl=1
CATEGORIES:General
LOCATION:Il Fornaio\, 223 Corte Madera Town Center\, Corte Madera\, United 
 Kingdom
X-APPLE-STRUCTURED-LOCATION;VALUE=URI;X-ADDRESS=223 Corte Madera Town Cente
 r\, Corte Madera\, United Kingdom;X-APPLE-RADIUS=100;X-TITLE=Il Fornaio:ge
 o:0,0
END:VEVENT
BEGIN:VTIMEZONE
TZID:America/Los_Angeles
X-LIC-LOCATION:America/Los_Angeles
BEGIN:DAYLIGHT
DTSTART:20240310T030000
TZOFFSETFROM:-0800
TZOFFSETTO:-0700
TZNAME:PDT
END:DAYLIGHT
END:VTIMEZONE
END:VCALENDAR