BEGIN:VCALENDAR
VERSION:2.0
PRODID:-//wp-events-plugin.com//7.2.3.1//EN
TZID:America/Los_Angeles
X-WR-TIMEZONE:America/Los_Angeles
BEGIN:VEVENT
UID:162@posts.marindentalsociety.org
DTSTART;TZID=America/Los_Angeles:20260417T083000
DTEND;TZID=America/Los_Angeles:20260417T130000
DTSTAMP:20260414T054335Z
URL:https://posts.marindentalsociety.org/events/dental-photography-demysti
 fied-using-high-quality-photography-to-achieve-clinical-success/
SUMMARY:Hands-On Workshop - Dental Photography Demystified: Using High Qual
 ity Photography to Achieve Clinical Success
DESCRIPTION:
CATEGORIES:Continuing Education
LOCATION:MCDS Muir Conference Room\, 175 N. Redwood Dr.\, San Rafael\, CA\,
  United States
X-APPLE-STRUCTURED-LOCATION;VALUE=URI;X-ADDRESS=175 N. Redwood Dr.\, San Ra
 fael\, CA\, United States;X-APPLE-RADIUS=100;X-TITLE=MCDS Muir Conference 
 Room:geo:0,0
END:VEVENT
BEGIN:VTIMEZONE
TZID:America/Los_Angeles
X-LIC-LOCATION:America/Los_Angeles
BEGIN:DAYLIGHT
DTSTART:20260308T030000
TZOFFSETFROM:-0800
TZOFFSETTO:-0700
TZNAME:PDT
END:DAYLIGHT
END:VTIMEZONE
END:VCALENDAR