BEGIN:VCALENDAR
VERSION:2.0
PRODID:-//wp-events-plugin.com//7.2.3.1//EN
TZID:America/Los_Angeles
X-WR-TIMEZONE:America/Los_Angeles
BEGIN:VEVENT
UID:81@posts.marindentalsociety.org
DTSTART;TZID=America/Los_Angeles:20231021T080000
DTEND;TZID=America/Los_Angeles:20231021T120000
DTSTAMP:20230915T083019Z
URL:https://posts.marindentalsociety.org/events/dental-start-up-boot-camp/
SUMMARY:Postponed to 2024 - Dental Start-Up Boot Camp
DESCRIPTION:Join CARR Healthcare REalty\, CDA\, Henry Schein Dental and EOS
  Healthcare Marketing at this exclusive event! It's free!\n\nGain valuable
  knowledge from dental\nindustry experts to prepare yourself for\nyour fir
 st dental practice.\n\nTopics to be discussed:\n• Building the “dream 
 team” to help you\n• Financing tips and how to qualify\n• Finding th
 e right space\n• Negotiate the ideal lease\n• Key strategies on office
  design\n• Latest trends in equipment and technology\n• Marketing for 
 new practices\n• Demographic analysis and what to look for\n\nSchedule:\
 n8am – 9am: Registration\n9am – 9:30am: BofA\n9:30am – 10am: EOS\n10
 am – 10:15am: Break\n10:15am – 10:45am: CARR\n10:45am – 11:15am: Hen
 ry Schein\n11:15am – 12:00pm: Q&amp\;A Panel and Closing\n\nRegister tod
 ay at: dg.zhevent@bofa.com
ATTACH;FMTTYPE=image/jpeg:https://posts.marindentalsociety.org/wp-content/
 uploads/2023/06/Dental-Bootcamp-10.21-pdf.jpg
CATEGORIES:Continuing Education
LOCATION:Courtyard Marriot Novato\, 1400 Hamilton Pkwy\, Novato\, CA\, Unit
 ed States
X-APPLE-STRUCTURED-LOCATION;VALUE=URI;X-ADDRESS=1400 Hamilton Pkwy\, Novato
 \, CA\, United States;X-APPLE-RADIUS=100;X-TITLE=Courtyard Marriot Novato:
 geo:0,0
END:VEVENT
BEGIN:VTIMEZONE
TZID:America/Los_Angeles
X-LIC-LOCATION:America/Los_Angeles
BEGIN:DAYLIGHT
DTSTART:20230312T030000
TZOFFSETFROM:-0800
TZOFFSETTO:-0700
TZNAME:PDT
END:DAYLIGHT
END:VTIMEZONE
END:VCALENDAR