BEGIN:VCALENDAR
VERSION:2.0
PRODID:-//wp-events-plugin.com//7.2.3.1//EN
TZID:America/Los_Angeles
X-WR-TIMEZONE:America/Los_Angeles
BEGIN:VEVENT
UID:30@posts.marindentalsociety.org
DTSTART;TZID=America/Los_Angeles:20220517T173000
DTEND;TZID=America/Los_Angeles:20220517T210000
DTSTAMP:20230325T062401Z
URL:https://posts.marindentalsociety.org/events/dinner-ce-meeting-digital-
 workflows/
SUMMARY:Dinner/CE Meeting - Digital Workflows with Dr. Leo Yang
DESCRIPTION:Speaker:  Dr. Leo Yang\nCourse:  Dentsply Sirona - Digital de
 ntal technologies\, innovations and workflows\nDigital technology has chan
 ged the landscape of every industry\, altering manual tasks and independen
 t processes into integrated\, streamlined workflows. Dentistry is no longe
 r on the side lines of this revolution\, but adopting technical advances i
 n imaging\, manufacturing\, and software integration to redefine the possi
 bilities of dental procedures.\n\nDental offices can now incorporate compu
 ter-assisted technology on many levels\, from digital archives and patient
  education to cutting-edge optical impression systems and same-day restora
 tion treatments. Big or small\, fully integrated\, or just starting out\, 
 dental practices can elevate services and care in ways never imagined deca
 des ago.\n\nDentsply Sirona consistently reinvents what is possible in dig
 ital dentistry\, pioneering new technologies that elevate products and unl
 ock the potential of dental practitioners around the world. How will your 
 office take advantage of this digital revolution?\n\nTable Clinic 5:30-6:3
 0pm: 1 CEU\n\nCourse 7:00-9:00pm: 2 CEUs\n&nbsp\;\n\nLeo C. Yang\, DDS mai
 ntains a private practice in Mill Valley\, California.  In 2006\, he intr
 oduced CEREC to his practice and Galileos CBCT in 2012.  He is committed 
 to giving his patients the best quality care by using digital technology t
 o enhance precision\, predictability and patient comfort.  Dr. Yang recei
 ved his DDS degree from the State University of New York at Buffalo\, and 
 additional training and experience through the Advanced Education in Gener
 al Dentistry (AEGD) program at the University of California\, San Francisc
 o and is a fellow with the International Congress of Oral Implantologists 
 (ICOI)\, and a Clinical Advisory Board member for RODO Medical\, Inc. \n\n
 Using a series of lectures based on his own clinical experiences and actua
 l patients\, Dr. Leo Yang provides simple and effective techniques for den
 tists to implement technology with success.  \nHe is a CEREC Certified A
 dvanced Trainer\, and has lectured locally and internationally on subjects
  related to CAD-CAM and CBCT technology.\nAlways passionate about sharing 
 his real life experiences with fellow colleagues\, Dr. Yang will show us h
 ow to achieve a simple and efficient workflow while minimizing mistakes al
 ong the way.\n
CATEGORIES:Continuing Education
LOCATION:McInnis Park Club Restaurant\, 350 Smith Ranch Road\, San Rafael\,
  California\, 94903\, Marin County\, United States
GEO:38.021814;-122.519899
X-APPLE-STRUCTURED-LOCATION;VALUE=URI;X-ADDRESS=350 Smith Ranch Road\, San 
 Rafael\, California\, 94903\, Marin County\, United States;X-APPLE-RADIUS=
 100;X-TITLE=McInnis Park Club Restaurant:geo:38.021814,-122.519899
END:VEVENT
BEGIN:VTIMEZONE
TZID:America/Los_Angeles
X-LIC-LOCATION:America/Los_Angeles
BEGIN:DAYLIGHT
DTSTART:20220313T030000
TZOFFSETFROM:-0800
TZOFFSETTO:-0700
TZNAME:PDT
END:DAYLIGHT
END:VTIMEZONE
END:VCALENDAR