BEGIN:VCALENDAR
VERSION:2.0
PRODID:-//wp-events-plugin.com//7.2.3.1//EN
TZID:America/Los_Angeles
X-WR-TIMEZONE:America/Los_Angeles
BEGIN:VEVENT
UID:36@posts.marindentalsociety.org
DTSTART;TZID=America/Los_Angeles:20221018T173000
DTEND;TZID=America/Los_Angeles:20221018T210000
DTSTAMP:20221019T014159Z
URL:https://posts.marindentalsociety.org/events/dinner-ce-meeting-glass-io
 nomer/
SUMMARY:Dinner / CE Meeting - Brush-on Cavity Treatments - a new era of den
 tistry (using Curodont & Glass Ionomers)
DESCRIPTION:Speaker:\n\nJeremy Horst Keeper\, DDS\, PhD\nIn the last decade
 \, noninvasive therapies have revolutionized options for managing dental c
 aries. We started with SDF\, but now we have FDA-approved nanotechnologie
 s that do not stain\, such as P11-4 (Curodont) and povidone iodine (Beta
 dine). We have learned to use Glass Ionomers as definitive restorations\, 
 strengthening the tooth and preventing recurrent caries. This changes the 
 way we prep teeth\, so partial caries removal has become the international
  standard. The evidence is strong. Here we will focus on indications\, how
 -to\, and outcomes to empower dental teams to provide gentler care and ach
 ieve cost-beneficial success.\nLearning Outcomes:\n1. Explain how P11-4 (
 Curodont) and works\, and offer it to patients.\n2. Demonstrate how to re
 duce or even eliminate caries removal with SDF and/or glass ionomer.\n3. O
 ffer at least one noninvasive caries treatment to patients.\n&nbsp\;\n\nSo
 cial Hour 5:30-6:30pm / Dinner 6:30pm\n\nCourse 7:00-9:00pm: 2 CEUs\n\nBio
 :\nJeremy Horst Keeper DDS\, PhD is the director of clinical innovation at
  CareQuest Innovation Partners\, an organization whose mission is to impro
 ve oral health for all. As a practicing pediatric dentist\, biochemist\, a
 nd educator\, Jeremy is known for investigating the strengths and limitati
 ons of Silver Fluoride therapy\, helping to develop SMART fillings\, and a
 ccelerating the adoption of maximally effective\, minimally invasive carie
 s management techniques. In support of this work\, Jeremy holds affiliatio
 ns with the University of Washington and the dəxwx̌ayəbus Dental Therap
 y program. At CareQuest\, Jeremy is driving the development of better tre
 atments\, preventives\, and diagnostics to improve access to person-cente
 red care\, integrate oral health into overall health\, and stop dental ca
 ries.\n
CATEGORIES:Continuing Education
LOCATION:McInnis Park Club Restaurant\, 350 Smith Ranch Road\, San Rafael\,
  California\, 94903\, Marin County\, United States
GEO:38.021814;-122.519899
X-APPLE-STRUCTURED-LOCATION;VALUE=URI;X-ADDRESS=350 Smith Ranch Road\, San 
 Rafael\, California\, 94903\, Marin County\, United States;X-APPLE-RADIUS=
 100;X-TITLE=McInnis Park Club Restaurant:geo:38.021814,-122.519899
END:VEVENT
BEGIN:VTIMEZONE
TZID:America/Los_Angeles
X-LIC-LOCATION:America/Los_Angeles
BEGIN:DAYLIGHT
DTSTART:20220313T030000
TZOFFSETFROM:-0800
TZOFFSETTO:-0700
TZNAME:PDT
END:DAYLIGHT
END:VTIMEZONE
END:VCALENDAR