BEGIN:VCALENDAR
VERSION:2.0
PRODID:-//wp-events-plugin.com//7.2.3.1//EN
TZID:America/Los_Angeles
X-WR-TIMEZONE:America/Los_Angeles
BEGIN:VEVENT
UID:25@posts.marindentalsociety.org
DTSTART;TZID=America/Los_Angeles:20220920T173000
DTEND;TZID=America/Los_Angeles:20220920T210000
DTSTAMP:20220920T071538Z
URL:https://posts.marindentalsociety.org/events/dinner-ce-meeting-oral-pat
 hologies/
SUMMARY:Dinner/CE Meeting - Oral Pathologies
DESCRIPTION:Speaker:\n\nKamal Al-Eryani\, DDS\, PhD\n\n\n\nDr. Al-Eryani is
  an Associate Professor and Graduate Program Director in the Division of O
 ral Medicine\, Oral Pathology\, and Oral Radiology. He is also Clinic Dire
 ctor of the Oral Medicine Service.\n\nDr. Al- Eryani's research experience
  covers basic and clinical sciences. His research focuses on defining and 
 understanding the etiopathogenesis and treatment of oral squamous cell car
 cinoma and orofacial neuropathic pain. Has contributed to the literature w
 ith over 20 peer- reviewed publications and has an extensive research ment
 orship record for residents and master students’ theses. He has been rec
 ognized for his contributions to the field including two scholarship award
 s from the Japanese government (2011 and 2015)\, a Certificate of recognit
 ion for the pursuit of excellence and achievement in Oral Medicine by the 
 American Academy of Oral Medicine in 2015\, and a Distinguished Scholar Aw
 ard by the Arab Fund for Economic and Social Development in 2016. Read ful
 l bio here&gt\;&gt\;\n\nDr. Al-Eryani will address the following questions
  during our dinner meeting course:\n\n 	What are the top 10 common oral pa
 thologies found in dental settings?\n 	What are the differential diagnoses
  for most common pathologies?\n\nIn addition\, he will provide information
  on oral cancers and precancers.\n\nTable Clinic 5:30-6:30pm: 1 CEU\n\nCou
 rse 7:00-9:00pm: 2 CEUs
CATEGORIES:Continuing Education
LOCATION:McInnis Park Club Restaurant\, 350 Smith Ranch Road\, San Rafael\,
  California\, 94903\, Marin County\, United States
GEO:38.021814;-122.519899
X-APPLE-STRUCTURED-LOCATION;VALUE=URI;X-ADDRESS=350 Smith Ranch Road\, San 
 Rafael\, California\, 94903\, Marin County\, United States;X-APPLE-RADIUS=
 100;X-TITLE=McInnis Park Club Restaurant:geo:38.021814,-122.519899
END:VEVENT
BEGIN:VTIMEZONE
TZID:America/Los_Angeles
X-LIC-LOCATION:America/Los_Angeles
BEGIN:DAYLIGHT
DTSTART:20220313T030000
TZOFFSETFROM:-0800
TZOFFSETTO:-0700
TZNAME:PDT
END:DAYLIGHT
END:VTIMEZONE
END:VCALENDAR