BEGIN:VCALENDAR
VERSION:2.0
PRODID:-//wp-events-plugin.com//7.2.3.1//EN
TZID:America/Los_Angeles
X-WR-TIMEZONE:America/Los_Angeles
BEGIN:VEVENT
UID:124@posts.marindentalsociety.org
DTSTART;TZID=America/Los_Angeles:20250418T083000
DTEND;TZID=America/Los_Angeles:20250418T130000
DTSTAMP:20250418T010511Z
URL:https://posts.marindentalsociety.org/events/emergency-medicine-dental-
 practioner-teams-hands-on-workshop/
SUMMARY:Emergency Medicine for Every Dental Practitioner & Their Team: A Ha
 nds-On Workshop
DESCRIPTION:Speaker:\n\nDr. Jesse West Manton\, DDS\, MS\, CHSE\, DADBA\n\n
 \n\nDr. Manton is currently Chief of the Division of Anesthesiology &amp\;
  Perioperative Care in the Department of Oral &amp\; Maxillofacial Surgery
  at the Arthur A. Dugoni School of Dentistry where he focuses on integrate
 d medical-dental education and training for students\, residents and facul
 ty. He provides general anesthesia and perioperative care services in the 
 OMS SurgiCenter and directs the Medical Emergency Response Team and its te
 aching internship program.\n\nCourse:\n\nEmergency Medicine for Every Dent
 al Practitioner and their Team (Part 2): A Hands-On Workshop\n\n4 CE Credi
 ts\nCourse + Emergency Kits Proudly Sponsored by:\n\n&nbsp\;\n\n&nbsp\;\n\
 nSchedule:\n\nMorning coffee\, tea\, pastries and a light lunch will be pr
 ovided\n8:30am arrival\, refreshments\n\n9:00am course begins\n\n11:30am l
 ight lunch\n\n1:00pm course ends\nDescription\n\nAfter attending the Part 
 1 lecture presentation\, this workshop will help you put the pieces togeth
 er so that you have the knowledge and skills\, to work as a team and save 
 a life. In this hands-on workshop\, you will work through several task-tra
 iner-based stations that will help you practice patient monitoring and ass
 essment\, airway management\, and medication preparation and delivery\, al
 l of which will help you become able to recognize a patient requiring urge
 nt or emergent care and initiate evaluation and management in the dental s
 etting. Dr. Manton will familiarize you with the preparation and delivery 
 of the essential drugs you need in your emergency medical kit. Through han
 ds-on practice\, you will become more prepared\, confident\, and competent
 .\n\nObjectives\n1. Demonstrate use of the Systematic Approach\n2. Demonst
 rate use of basic vital sign and patient monitors and describe their indic
 ations\n3. Demonstrate use of supplemental oxygen supplies and equipment\n
 4. Demonstrate proper use of basic airway maneuvers and airway adjuncts\n5
 . Demonstrate proper preparation and delivery of common emergency drugs\n6
 . Become familiar with common medical emergency response manuals and their
  algorithms\n7. List roles and duties of the dental office resuscitation t
 eam members\no Practice communication strategies for emergency situations\
 n8. Review BLS and High-Quality Team-Based CardioPulmonary Resuscitation
CATEGORIES:Continuing Education
LOCATION:MCDS Office - Point Reyes Conference Room\, 175 N Redwood Dr. \, S
 an Rafael\, CA\, United States
X-APPLE-STRUCTURED-LOCATION;VALUE=URI;X-ADDRESS=175 N Redwood Dr. \, San Ra
 fael\, CA\, United States;X-APPLE-RADIUS=100;X-TITLE=MCDS Office - Point R
 eyes Conference Room:geo:0,0
END:VEVENT
BEGIN:VTIMEZONE
TZID:America/Los_Angeles
X-LIC-LOCATION:America/Los_Angeles
BEGIN:DAYLIGHT
DTSTART:20250309T030000
TZOFFSETFROM:-0800
TZOFFSETTO:-0700
TZNAME:PDT
END:DAYLIGHT
END:VTIMEZONE
END:VCALENDAR