BEGIN:VCALENDAR
VERSION:2.0
PRODID:-//wp-events-plugin.com//7.2.3.1//EN
TZID:America/Los_Angeles
X-WR-TIMEZONE:America/Los_Angeles
BEGIN:VEVENT
UID:95@posts.marindentalsociety.org
DTSTART;TZID=America/Los_Angeles:20250213T183000
DTEND;TZID=America/Los_Angeles:20250213T203000
DTSTAMP:20241211T063520Z
URL:https://posts.marindentalsociety.org/events/feb-bls-cpr-renewal-2025/
SUMMARY:February BLS / CPR Renewal 2025
DESCRIPTION:Register Here for Thursday\, February 13\, 2025\n\nEarn: CPR Ce
 rtificate + 2 CEs\n\nUse code: MCDS when checking out for your $10 membe
 r discount. Here is the full schedule with a menu of all locations availa
 ble.
ATTACH;FMTTYPE=image/jpeg:https://i0.wp.com/posts.marindentalsociety.org/w
 p-content/uploads/2021/12/2020-bls.jpg?fit=424%2C560&ssl=1
CATEGORIES:All BLS / CPR Courses,Continuing Education
LOCATION:Marin County Dental Society - Muir Conference Room\, 175 N Redwood
  Dr Ste. 130\, San Rafael\, California\, 94903\, Marin County\, United Sta
 tes
GEO:38.023681;-122.536604
X-APPLE-STRUCTURED-LOCATION;VALUE=URI;X-ADDRESS=175 N Redwood Dr Ste. 130\,
  San Rafael\, California\, 94903\, Marin County\, United States;X-APPLE-RA
 DIUS=100;X-TITLE=Marin County Dental Society - Muir Conference Room:geo:38
 .023681,-122.536604
END:VEVENT
BEGIN:VTIMEZONE
TZID:America/Los_Angeles
X-LIC-LOCATION:America/Los_Angeles
BEGIN:STANDARD
DTSTART:20241103T010000
TZOFFSETFROM:-0700
TZOFFSETTO:-0800
TZNAME:PST
END:STANDARD
END:VTIMEZONE
END:VCALENDAR