BEGIN:VCALENDAR
VERSION:2.0
PRODID:-//wp-events-plugin.com//7.2.3.1//EN
TZID:America/Los_Angeles
X-WR-TIMEZONE:America/Los_Angeles
BEGIN:VEVENT
UID:47@posts.marindentalsociety.org
DTSTART;TZID=America/Los_Angeles:20230117T190000
DTEND;TZID=America/Los_Angeles:20230117T200000
DTSTAMP:20230113T044448Z
URL:https://posts.marindentalsociety.org/events/general-meeting-2023-board
 -installation-medi-cal-dental-program-update-info-session/
SUMMARY:General Meeting: 2023 Board Installation + Medi-Cal Dental Program 
 update/info session
DESCRIPTION:Join your new 2023 Board at the upcoming virtual General Meetin
 g which includes Board Installation and a webinar update on changes to the
  Medi-Cal Dental Program\, expanded support for providers\, and added reso
 urces.\n\nEarn .5 CE for attending the webinar.\n\nZoom link sent prior to
  the meeting
CATEGORIES:Continuing Education
END:VEVENT
BEGIN:VTIMEZONE
TZID:America/Los_Angeles
X-LIC-LOCATION:America/Los_Angeles
BEGIN:STANDARD
DTSTART:20221106T010000
TZOFFSETFROM:-0700
TZOFFSETTO:-0800
TZNAME:PST
END:STANDARD
END:VTIMEZONE
END:VCALENDAR