BEGIN:VCALENDAR
VERSION:2.0
PRODID:-//wp-events-plugin.com//7.2.3.1//EN
TZID:America/Los_Angeles
X-WR-TIMEZONE:America/Los_Angeles
BEGIN:VEVENT
UID:148@posts.marindentalsociety.org
DTSTART;TZID=America/Los_Angeles:20251119T183000
DTEND;TZID=America/Los_Angeles:20251119T193000
DTSTAMP:20251106T215305Z
URL:https://posts.marindentalsociety.org/events/how-to-strategically-annua
 l-plan/
SUMMARY:How to Strategically Annual Plan
DESCRIPTION:How to Strategically Annual Plan\n\nNovember 19th\n\n6:30pm - 7
 :30pm\n\nOnline via Zoom\n\nFREE For MCDS Members and Guests\n\nREGISTER v
 ia Zoom\n\nCourse Description:\n\nTake control of your practice’s future
  with How to Strategically Annual Plan. This webinar provides a focused\, 
 step-by-step guide to building a smarter\, more sustainable year. In this 
 session you’ll learn how to move from reactive to proactive leadership\,
  connect financial goals with team growth and lifestyle balance\, and desi
 gn a schedule that works for you. We’ll walk through understanding your 
 true numbers\, setting realistic production targets\, aligning time and ca
 pacity with growth plans\, and creating systems for ongoing review. By the
  end\, you’ll have a practical framework and checklist to set clear goal
 s\, optimize your team’s efficiency\, and start next year with confidenc
 e and direction.\n\nSpeaker: Sandra Fernandez\, RDAEF2\n\n\n\nSandra Ferna
 ndez discovered her passion for dentistry in 2013 and continues to hold he
 r RDAEF2 license. Over the years\, she has gained extensive experience acr
 oss many roles in the dental field\, including working in the HR Grievance
  Department at Delta Dental of California\, serving as an office manager\,
  back office manager\, and everything in between.\n\nHer mission has alway
 s been to provide both doctors and their teams with a personalized\, hands
 -on experience that ensures they feel supported and heard. Sandra’s expe
 rtise spans general dentistry\, pediatrics\, orthodontics\, periodontics\,
  and aesthetic spa practices. She specializes in back office team developm
 ent and individualized consulting\, taking a holistic approach that not on
 ly strengthens team performance but also drives measurable business growth
 .
ATTACH;FMTTYPE=image/jpeg:https://i0.wp.com/posts.marindentalsociety.org/w
 p-content/uploads/2025/11/Strategic-Plan_2025-11-05-scaled.png?fit=2560%2C
 1440&ssl=1
CATEGORIES:Continuing Education
END:VEVENT
BEGIN:VTIMEZONE
TZID:America/Los_Angeles
X-LIC-LOCATION:America/Los_Angeles
BEGIN:STANDARD
DTSTART:20251102T010000
TZOFFSETFROM:-0700
TZOFFSETTO:-0800
TZNAME:PST
END:STANDARD
END:VTIMEZONE
END:VCALENDAR