BEGIN:VCALENDAR
VERSION:2.0
PRODID:-//wp-events-plugin.com//7.2.3.1//EN
TZID:America/Los_Angeles
X-WR-TIMEZONE:America/Los_Angeles
BEGIN:VEVENT
UID:68@posts.marindentalsociety.org
DTSTART;TZID=America/Los_Angeles:20230516T180000
DTEND;TZID=America/Los_Angeles:20230516T210000
DTSTAMP:20230516T031915Z
URL:https://posts.marindentalsociety.org/events/implant-prosthetic-misadve
 ntures/
SUMMARY:Implant Prosthetic Misadventures CE / Dinner Meeting
DESCRIPTION:Communication is the key to a successful implant restoration.\n
 \nLear about the importance of open communication between the specialist\,
  dentist\, and dental laboratory.\n\nThis program will provide attendees w
 ith a strong theoretical basis on the management of their dental implant p
 rosthetic restorations. We will discuss the long-term success and failures
  associated with prosthetic implant restorations.\n\nEarn 3 CE for attendi
 ng Table Clinics and presentation\n\nClick here to see the full flyer with
  learning objectives and Wayne Szara\, CDT bio
ATTACH;FMTTYPE=image/jpeg:https://i0.wp.com/posts.marindentalsociety.org/w
 p-content/uploads/2023/02/Wayne-Szara-CDT.jpg?fit=200%2C200&ssl=1
CATEGORIES:Continuing Education
LOCATION:McInnis Park Club Restaurant\, 350 Smith Ranch Road\, San Rafael\,
  California\, 94903\, Marin County\, United States
GEO:38.021814;-122.519899
X-APPLE-STRUCTURED-LOCATION;VALUE=URI;X-ADDRESS=350 Smith Ranch Road\, San 
 Rafael\, California\, 94903\, Marin County\, United States;X-APPLE-RADIUS=
 100;X-TITLE=McInnis Park Club Restaurant:geo:38.021814,-122.519899
END:VEVENT
BEGIN:VTIMEZONE
TZID:America/Los_Angeles
X-LIC-LOCATION:America/Los_Angeles
BEGIN:DAYLIGHT
DTSTART:20230312T030000
TZOFFSETFROM:-0800
TZOFFSETTO:-0700
TZNAME:PDT
END:DAYLIGHT
END:VTIMEZONE
END:VCALENDAR