BEGIN:VCALENDAR
VERSION:2.0
PRODID:-//wp-events-plugin.com//7.2.3.1//EN
TZID:America/Los_Angeles
X-WR-TIMEZONE:America/Los_Angeles
BEGIN:VEVENT
UID:90@posts.marindentalsociety.org
DTSTART;TZID=America/Los_Angeles:20231027T083000
DTEND;TZID=America/Los_Angeles:20231027T133000
DTSTAMP:20231011T060722Z
URL:https://posts.marindentalsociety.org/events/infection-control-ca-denta
 l-practice-act-2/
SUMMARY:Infection Control + CA Dental Practice Act with Enviromerica
DESCRIPTION:Course Presented by Enviromerica at MCDS Headquarters (Muir Con
 ference Room)\n\nCA INFECTION CONTROL and BLOODBORNE PATHOGEN INFECTION CO
 NTROL (2 CE Units)\n\nThis course outlines Dental Board of California and 
 OSHA’s requirements for infection control in dental facilities\n\nTopics
  Covered:\n\n 	Bloodborne Pathogen infection control\n 	Vaccination requir
 ements\n 	Safety protocols\n 	Policies and Procedures\n 	Sterilization and
  Disinfection\n 	Personal Protective Equipment\n 	Hand hygiene\n 	Handling
  board inspections\, and much more\n\n&nbsp\;\nCA DENTAL PRACTICE ACT (2 C
 E units)\n\nIn this course we will cover all requirements of the Act in a 
 summarized version\n\nTopics Covered:\n\n 	Instruction on utilization\n 	S
 cope of practice\n 	Prescribing laws\n 	Violations\, citations\, and fines
 \n 	Licensure\n 	The identification of abuse and Neglect\n 	Mandatory abus
 e and neglect reporting\n\n&nbsp\;\n\nMorning coffee\, pastries and a ligh
 t lunch will be provided\n8:30am arrival\, refreshments\n\n9:00am course b
 egins\n\n12:00pm light lunch\n\n1:30pm course ends\n&nbsp\;\n\nJulian Godu
 ci\, CEO\n\nJulian Goduci has worked as a business consultant in the healt
 hcare industry for over 25 years. And in doing so\, he has become well-kno
 wn industry-wide for his expertise in healthcare practice management\, reg
 ulatory compliance\, cybersecurity\, IT\, and medical waste.\nAfter 16 yea
 rs in telecommunication sales with companies like MCI\, and Qwest Communic
 ations\, Julian decided to leave the telecom industry and join Safety Comp
 liance Services\, a healthcare compliance consulting firm\, as VP and Regi
 onal Manager. SCS provided compliance consulting services to over 5\,000 p
 hysicians and dentists in private practice. Click here for full bio&gt\;&g
 t\;
ATTACH;FMTTYPE=image/jpeg:https://i0.wp.com/posts.marindentalsociety.org/w
 p-content/uploads/2023/09/EnviroMerica-Gradient-Version2.png?fit=1500%2C26
 5&ssl=1
CATEGORIES:Continuing Education
LOCATION:Marin County Dental Society - Muir Conference Room\, 175 N Redwood
  Dr.\, San Rafael\, United States
X-APPLE-STRUCTURED-LOCATION;VALUE=URI;X-ADDRESS=175 N Redwood Dr.\, San Raf
 ael\, United States;X-APPLE-RADIUS=100;X-TITLE=Marin County Dental Society
  - Muir Conference Room:geo:0,0
END:VEVENT
BEGIN:VTIMEZONE
TZID:America/Los_Angeles
X-LIC-LOCATION:America/Los_Angeles
BEGIN:DAYLIGHT
DTSTART:20230312T030000
TZOFFSETFROM:-0800
TZOFFSETTO:-0700
TZNAME:PDT
END:DAYLIGHT
END:VTIMEZONE
END:VCALENDAR