BEGIN:VCALENDAR
VERSION:2.0
PRODID:-//wp-events-plugin.com//7.2.3.1//EN
TZID:America/Los_Angeles
X-WR-TIMEZONE:America/Los_Angeles
BEGIN:VEVENT
UID:88@posts.marindentalsociety.org
DTSTART;TZID=America/Los_Angeles:20230928T153000
DTEND;TZID=America/Los_Angeles:20230928T200000
DTSTAMP:20230913T055559Z
URL:https://posts.marindentalsociety.org/events/infection-control-ca-denta
 l-practice-act/
SUMMARY:MC Dental Assisting Society Presents: Infection Control + CA Dental
  Practice Act CE / Dinner
DESCRIPTION:Course Description: upon completion of the CE course\, the part
 icipants will understand:\n- Infection control vs infection prevention\, D
 ental Board Infection Control Regulations\n- State law and regulations: st
 ate guidelines for legal roles and responsibilities\; and key\nrequirement
 s to maintain a professional license.\n\nMCDAS_IC_CDPA_Sept 2023_FORM
ATTACH;FMTTYPE=image/jpeg:https://i0.wp.com/posts.marindentalsociety.org/w
 p-content/uploads/2023/09/MCDAS_IC_CDPA_2023_09_28-2.png?fit=1080%2C1080&s
 sl=1
LOCATION:San Rafael Joe's Restaurant\, 931 4th St\, San Rafael\, United Sta
 tes
X-APPLE-STRUCTURED-LOCATION;VALUE=URI;X-ADDRESS=931 4th St\, San Rafael\, U
 nited States;X-APPLE-RADIUS=100;X-TITLE=San Rafael Joe's Restaurant:geo:0,
 0
END:VEVENT
BEGIN:VTIMEZONE
TZID:America/Los_Angeles
X-LIC-LOCATION:America/Los_Angeles
BEGIN:DAYLIGHT
DTSTART:20230312T030000
TZOFFSETFROM:-0800
TZOFFSETTO:-0700
TZNAME:PDT
END:DAYLIGHT
END:VTIMEZONE
END:VCALENDAR