BEGIN:VCALENDAR
VERSION:2.0
PRODID:-//wp-events-plugin.com//7.2.3.1//EN
TZID:America/Los_Angeles
X-WR-TIMEZONE:America/Los_Angeles
BEGIN:VEVENT
UID:102@posts.marindentalsociety.org
DTSTART;TZID=America/Los_Angeles:20240418T180000
DTEND;TZID=America/Los_Angeles:20240418T210000
DTSTAMP:20240131T063409Z
URL:https://posts.marindentalsociety.org/events/its-a-metal-free-world/
SUMMARY:CE / Dinner Meeting: It's a Metal Free World - Advanced Adhesion Te
 chniques
DESCRIPTION:Speaker:\n\nDr. Troy Schmedding\, DDS\n\n\n\nCourse Description
 : During the last 25 years\, there have been a major advancements in mater
 ial science\, research and techniques\, however\, many of these advancemen
 ts have not been implemented in the majority of dental practices. This cou
 rse will present advanced adhesion techniques and materials supported by i
 mportant key research that minimizes the removal of healthy tissue and max
 imizes bond strengths. These techniques can be done simply on a daily basi
 s and can solve virtually every problem with direct composite and indirect
  restorations.\n\nLearning Objectives: \n\n 	How to select the right ceram
 ic.\n 	Understanding the inherent difference in ceramics.\n 	Proper bondin
 g protocols.\n\nTable Clinic 5:30-6:30pm: 1 CEU\n\nCourse 7:00-9:00pm: 2 C
 EUs\n\nBio: Dr. Troy A. Schmedding graduated from the University of Puget 
 Sound before getting his Doctor of Dental Surgery at the University of the
  Pacific School of Dentistry in 1993. For 17 years\, Dr. Schmedding succes
 sfully maintained a solo dental practice in Seattle\, WA before relocating
  with his family to California to pursue his interest in educating a futur
 e generation of dentists. After 5 years as assistant professor in the Depa
 rtment of Reconstructive Dental Sciences and co-course director for Integr
 ated Pre-Clinical Technique at UOP Dentistry\, he realized he missed direc
 t patient interaction and purchased his current practice in Walnut Creek. 
 In addition to teaching\, Dr. Schmedding enjoys lecturing nationally and i
 nternationally to fellow colleagues on restorative and aesthetic dentistry
 .\n\nSponsored by Kuraray Noritake\n\nIf you are registering more than one
  member or staff\, please add their name/s in the Additional Registrants b
 ar.\n\nWe are back to a buffet style dinner at McInnis - if you have any c
 oncern\, please email staff and we can make accommodations for you - exec@
 marindentalsociety.org
CATEGORIES:Continuing Education
LOCATION:McInnis Park Club Restaurant\, 350 Smith Ranch Road\, San Rafael\,
  California\, 94903\, Marin County\, United States
GEO:38.021814;-122.519899
X-APPLE-STRUCTURED-LOCATION;VALUE=URI;X-ADDRESS=350 Smith Ranch Road\, San 
 Rafael\, California\, 94903\, Marin County\, United States;X-APPLE-RADIUS=
 100;X-TITLE=McInnis Park Club Restaurant:geo:38.021814,-122.519899
END:VEVENT
BEGIN:VTIMEZONE
TZID:America/Los_Angeles
X-LIC-LOCATION:America/Los_Angeles
BEGIN:DAYLIGHT
DTSTART:20240310T030000
TZOFFSETFROM:-0800
TZOFFSETTO:-0700
TZNAME:PDT
END:DAYLIGHT
END:VTIMEZONE
END:VCALENDAR