BEGIN:VCALENDAR
VERSION:2.0
PRODID:-//wp-events-plugin.com//7.2.3.1//EN
TZID:America/Los_Angeles
X-WR-TIMEZONE:America/Los_Angeles
BEGIN:VEVENT
UID:133@posts.marindentalsociety.org
DTSTART;TZID=America/Los_Angeles:20250109T183000
DTEND;TZID=America/Los_Angeles:20250109T203000
DTSTAMP:20241214T023857Z
URL:https://posts.marindentalsociety.org/events/january-2025-bls-cpr-renew
 al/
SUMMARY:January 2025 BLS / CPR Renewal
DESCRIPTION:Register Here for Thursday\, January 9\, 2025\n\nEarn: CPR Cert
 ificate + 2 CEs\n\nUse code: MCDS when checking out for your $10 member 
 discount. Here is the full schedule with a menu of all locations availabl
 e.
ATTACH;FMTTYPE=image/jpeg:https://i0.wp.com/posts.marindentalsociety.org/w
 p-content/uploads/2021/12/2020-bls.jpg?fit=424%2C560&ssl=1
CATEGORIES:All BLS / CPR Courses,Continuing Education
LOCATION:Marin County Dental Society - Muir Conference Room\, 175 N Redwood
  Dr Ste. 130\, San Rafael\, California\, 94903\, Marin County\, United Sta
 tes
GEO:38.023681;-122.536604
X-APPLE-STRUCTURED-LOCATION;VALUE=URI;X-ADDRESS=175 N Redwood Dr Ste. 130\,
  San Rafael\, California\, 94903\, Marin County\, United States;X-APPLE-RA
 DIUS=100;X-TITLE=Marin County Dental Society - Muir Conference Room:geo:38
 .023681,-122.536604
END:VEVENT
BEGIN:VTIMEZONE
TZID:America/Los_Angeles
X-LIC-LOCATION:America/Los_Angeles
BEGIN:STANDARD
DTSTART:20241103T010000
TZOFFSETFROM:-0700
TZOFFSETTO:-0800
TZNAME:PST
END:STANDARD
END:VTIMEZONE
END:VCALENDAR