BEGIN:VCALENDAR
VERSION:2.0
PRODID:-//wp-events-plugin.com//7.2.3.1//EN
TZID:America/Los_Angeles
X-WR-TIMEZONE:America/Los_Angeles
BEGIN:VEVENT
UID:62@posts.marindentalsociety.org
DTSTART;TZID=America/Los_Angeles:20230209T180000
DTEND;TZID=America/Los_Angeles:20230209T200000
DTSTAMP:20230203T085546Z
URL:https://posts.marindentalsociety.org/events/mc-dental-assisting-societ
 y-presents-osha-review/
SUMMARY:MC Dental Assisting Society Presents: OSHA Review
DESCRIPTION:MANDATORY CLASS For OSHA COMPLIANCE in the Dental Office.\n\n 
 \n\nThis class meets all requirements set forth by the California Dental B
 oard for \n\nOSHA Review\, BLOODBORNE PATHOGENS REVIEW\, and STANDARD REVI
 EW.\n\n \n\nChristy Burton\, a Certified and Registered Dental Assistant 
 with over 24 years of experience will be co-teaching this class.\n\nShe is
  part of the California Dental Assistants Association\, on the education c
 ommittee at College of Marin\, and is the Marin County Dental Assistants S
 ociety President\, Director\, and Treasurer.\n\n&nbsp\;\n\nWende Bohlke wi
 th over 30 years of dental experience as an RDA\, RDH\, and Teacher\, allo
 ws her a special\n\nperspective in the dental field of working and teachin
 g all in one.\n\n&nbsp\;\nCourse Description - \n\nUpon completion of the
  CE course\, the participants will be able to:\n\n- Ensure Safely in the W
 ork Place.\n\n- This class is designed to protect workers from a wide rang
 e of hazards in the dental office.\n\n- Employers will know and understand
  the rules and methods they must follow and use to protect employees and t
 hemselves from hazards in the dental office.\n&nbsp\;\n\nClick here&gt\;&g
 t\; for registration + payment information
ATTACH;FMTTYPE=image/jpeg:https://i0.wp.com/posts.marindentalsociety.org/w
 p-content/uploads/2023/02/Teal-Simple-Photo-Text-Event-Promotion-Instagram
 -Post.jpg?fit=1080%2C1080&ssl=1
CATEGORIES:Continuing Education
LOCATION:San Rafael Marin Joe's Restaurant\, 931 Fourth St.\, San Rafael\, 
 CA\, United States
X-APPLE-STRUCTURED-LOCATION;VALUE=URI;X-ADDRESS=931 Fourth St.\, San Rafael
 \, CA\, United States;X-APPLE-RADIUS=100;X-TITLE=San Rafael Marin Joe's Re
 staurant:geo:0,0
END:VEVENT
BEGIN:VTIMEZONE
TZID:America/Los_Angeles
X-LIC-LOCATION:America/Los_Angeles
BEGIN:STANDARD
DTSTART:20221106T010000
TZOFFSETFROM:-0700
TZOFFSETTO:-0800
TZNAME:PST
END:STANDARD
END:VTIMEZONE
END:VCALENDAR