BEGIN:VCALENDAR
VERSION:2.0
PRODID:-//wp-events-plugin.com//7.2.3.1//EN
TZID:America/Los_Angeles
X-WR-TIMEZONE:America/Los_Angeles
BEGIN:VEVENT
UID:73@posts.marindentalsociety.org
DTSTART;TZID=America/Los_Angeles:20230524T180000
DTEND;TZID=America/Los_Angeles:20230524T210000
DTSTAMP:20230509T034145Z
URL:https://posts.marindentalsociety.org/events/mcdas-waterpik-present-pre
 medication-guidelines-for-dental-professionals-ce-dinner-course/
SUMMARY:MCDAS & Waterpik Present: Premedication Guidelines for Dental Profe
 ssionals CE Dinner Course
DESCRIPTION:When: Wednesday\, May 24th\, 6-9pm\n\nWhere: San Rafael Joe's\n
 \nPre Medication Ce Flyer- May 2023
ATTACH;FMTTYPE=image/jpeg:https://i0.wp.com/posts.marindentalsociety.org/w
 p-content/uploads/2023/05/Pre-Medication-Ce-Flyer-May-2023.jpg?fit=1224%2C
 1584&ssl=1
CATEGORIES:Continuing Education
LOCATION:San Rafael Marin Joe's Restaurant\, 931 Fourth St.\, San Rafael\, 
 CA\, United States
X-APPLE-STRUCTURED-LOCATION;VALUE=URI;X-ADDRESS=931 Fourth St.\, San Rafael
 \, CA\, United States;X-APPLE-RADIUS=100;X-TITLE=San Rafael Marin Joe's Re
 staurant:geo:0,0
END:VEVENT
BEGIN:VTIMEZONE
TZID:America/Los_Angeles
X-LIC-LOCATION:America/Los_Angeles
BEGIN:DAYLIGHT
DTSTART:20230312T030000
TZOFFSETFROM:-0800
TZOFFSETTO:-0700
TZNAME:PDT
END:DAYLIGHT
END:VTIMEZONE
END:VCALENDAR