BEGIN:VCALENDAR
VERSION:2.0
PRODID:-//wp-events-plugin.com//7.2.3.1//EN
TZID:America/Los_Angeles
X-WR-TIMEZONE:America/Los_Angeles
BEGIN:VEVENT
UID:136@posts.marindentalsociety.org
DTSTART;TZID=America/Los_Angeles:20250110T180000
DTEND;TZID=America/Los_Angeles:20250110T210000
DTSTAMP:20241211T075030Z
URL:https://posts.marindentalsociety.org/events/mcds-2025-board-of-directo
 rs-retreat/
SUMMARY:MCDS 2025 Board of Directors Retreat
DESCRIPTION:HOLD - location TBD
END:VEVENT
BEGIN:VTIMEZONE
TZID:America/Los_Angeles
X-LIC-LOCATION:America/Los_Angeles
BEGIN:STANDARD
DTSTART:20241103T010000
TZOFFSETFROM:-0700
TZOFFSETTO:-0800
TZNAME:PST
END:STANDARD
END:VTIMEZONE
END:VCALENDAR