BEGIN:VCALENDAR
VERSION:2.0
PRODID:-//wp-events-plugin.com//7.2.3.1//EN
TZID:America/Los_Angeles
X-WR-TIMEZONE:America/Los_Angeles
BEGIN:VEVENT
UID:135@posts.marindentalsociety.org
DTSTART;TZID=America/Los_Angeles:20250227T000000
DTEND;TZID=America/Los_Angeles:20251113T000000
DTSTAMP:20250812T203244Z
URL:https://posts.marindentalsociety.org/events/mcds-2025-continuing-educa
 tion-schedule/
SUMMARY:MCDS 2025 Continuing Education Schedule
DESCRIPTION:Hot off the press!\nPlease see Calendar to register for individ
 ual events. Please feel free to share this 2025 Upcoming CE Events Flyer 
 with staff and colleagues!\n\n&nbsp\;\n\n&nbsp\;
ATTACH;FMTTYPE=image/jpeg:https://i0.wp.com/posts.marindentalsociety.org/w
 p-content/uploads/2024/12/2025-Upcoming-CE-Events-Flyer_updated_2025-08-12
 .png?fit=1545%2C2000&ssl=1
CATEGORIES:All BLS / CPR Courses,Continuing Education
END:VEVENT
BEGIN:VTIMEZONE
TZID:America/Los_Angeles
X-LIC-LOCATION:America/Los_Angeles
BEGIN:STANDARD
DTSTART:20241103T010000
TZOFFSETFROM:-0700
TZOFFSETTO:-0800
TZNAME:PST
END:STANDARD
BEGIN:DAYLIGHT
DTSTART:20250309T030000
TZOFFSETFROM:-0800
TZOFFSETTO:-0700
TZNAME:PDT
END:DAYLIGHT
BEGIN:STANDARD
DTSTART:20251102T010000
TZOFFSETFROM:-0700
TZOFFSETTO:-0800
TZNAME:PST
END:STANDARD
END:VTIMEZONE
END:VCALENDAR