BEGIN:VCALENDAR
VERSION:2.0
PRODID:-//wp-events-plugin.com//7.2.3.1//EN
TZID:America/Los_Angeles
X-WR-TIMEZONE:America/Los_Angeles
BEGIN:VEVENT
UID:149@posts.marindentalsociety.org
DTSTART;TZID=America/Los_Angeles:20251211T180000
DTEND;TZID=America/Los_Angeles:20251211T203000
DTSTAMP:20251211T203720Z
URL:https://posts.marindentalsociety.org/events/mcds-annual-election-meeti
 ng-holiday-social-2025/
SUMMARY:MCDS Annual Election Meeting & Holiday Social
DESCRIPTION:🗳️🎄 Join Us for Our Annual Election Meeting &amp\; Holi
 day Social! 🥂\nDon't miss out on our most important (and fun!) gatherin
 g of the year! We're blending crucial organizational business—our Annual
  Election Meeting—with a festive Holiday Social that promises good food\
 , great company\, and plenty of laughs.\nThis is your chance to have your 
 voice heard\, connect with fellow members and staff\, and kick off the hol
 iday season in style!\n\nWhat to Expect &amp\; Why You Should Attend\n\n 	
 \nYour Voice Matters (The Meeting): Participate in the Annual Election Mee
 ting to cast your vote and hear updates that will shape the future of our 
 organization (Slate to be announced week of Dec 1). This is a vital opport
 unity to engage directly with the decision-making process.\n\n 	\nFeast an
 d Mingle (The Dinner): Enjoy a wonderful family-style dinner. It's the per
 fect setting to relax\, network\, and enjoy a delicious meal.\n\n 	\nThe U
 ltimate Style Battle (The Contest): Dig out your most hideous\, bedazzled\
 , and embarrassing garment for a legendary Ugly Sweater Contest! Who has w
 hat it takes to be crowned the winner? Prizes will be awarded for the most
  outrageously festive attire. The uglier\, the better!\n\n 	\nCommunity Co
 nnection: Reconnect with old friends and make new ones in a warm\, festive
  atmosphere.\n\n\nDate: Thursday\, December 11\n\nTime: 6:00 - 8:30pm\n\nL
 ocation: India Palace Restaurant 707 Redwood Hwy Frontage Rd (Located in T
 ravelodge/Wyndham)\nTicket Information &amp\; Investment\nSecure your spot
  today! Your ticket includes the full family-style dinner\, non-alcoholic 
 beverages\, and entry into the Ugly Sweater Contest.\n\nPresenting the 202
 6 Board of Directors Slate\n2026 MCDS Slate of Directors:\n\nSuccessive Po
 sitions:\nPresident:                                    
  Tema Kagan\, DDS\n\nImmediate Past President:      Aparna Subramanian
 \, DDS\nNominating Positions:\nPresident-Elect:                  
        Stephanie Shyn\, DDS\n\nTreasurer-Secretary:            
    Judy Chau\, DDS\n\nDirector-at-Large                     A
 na Amaya\, DDS (1 yr term)\n\nDirector-at-Large                  
    Charlene Rocha\, DDS (1 yr term)\n\nDirector-at-Large          
            Alan Chee\, DDS (2 yr term)\nContinuing Terms:\nDirector-
 at-Large                     Sophie Taylor\, DDS (2 yr term)\n\
 nBCR Member:                             Raul Con
 treras\, DMD (2 yr term)\n\nEditor:                    
                       Rosemarie Goldstein\, DDS (2 yr
  term)\n&nbsp\;
ATTACH;FMTTYPE=image/jpeg:https://i0.wp.com/posts.marindentalsociety.org/w
 p-content/uploads/2025/11/Blue-And-White-Illustrative-Ugly-Sweater-Party-P
 oster.jpg?fit=1728%2C2304&ssl=1
CATEGORIES:General
LOCATION:India Palace Restaurant\, 707 Redwood Hwy\, Mill Valley\, United S
 tates
X-APPLE-STRUCTURED-LOCATION;VALUE=URI;X-ADDRESS=707 Redwood Hwy\, Mill Vall
 ey\, United States;X-APPLE-RADIUS=100;X-TITLE=India Palace Restaurant:geo:
 0,0
END:VEVENT
BEGIN:VTIMEZONE
TZID:America/Los_Angeles
X-LIC-LOCATION:America/Los_Angeles
BEGIN:STANDARD
DTSTART:20251102T010000
TZOFFSETFROM:-0700
TZOFFSETTO:-0800
TZNAME:PST
END:STANDARD
END:VTIMEZONE
END:VCALENDAR