BEGIN:VCALENDAR
VERSION:2.0
PRODID:-//wp-events-plugin.com//7.2.3.1//EN
TZID:America/Los_Angeles
X-WR-TIMEZONE:America/Los_Angeles
BEGIN:VEVENT
UID:121@posts.marindentalsociety.org
DTSTART;TZID=America/Los_Angeles:20241205T180000
DTEND;TZID=America/Los_Angeles:20241205T203000
DTSTAMP:20241205T092324Z
URL:https://posts.marindentalsociety.org/events/mcds-annual-election-meeti
 ng-holiday-social/
SUMMARY:MCDS Annual Election Meeting & Holiday Social
DESCRIPTION:Come join us as we celebrate the 2024 Board of Directors and we
 lcome in the 2025 Directors at our annual election meeting and holiday soc
 ial!\n\nFamily Style Dinner &amp\; 2 drinks included with your ticket.\n\n
 Date: Thursday\, December 5\n\nTime: 6 - 8:30pm\n\nLocation: Monk's Kettle
 \, Terra Linda on the Mezzanine - 655 Del Ganado Rd\n\n&nbsp\;\n\n2025 MCD
 S Slate of Directors:\nPresident:                    
                 Aparna Subramanian\, DDS (nomination/successi
 on)\n\nPresident-Elect:                         Frid
 a Tema Kagan\, DDS (nomination)\n\nTreasurer-Secretary:            
     Stephanie Shyn\, DDS (nomination)\n\nImmediate Past President:   
   Heather Abramson\, DDS (succession)\n\nDirector-at-Large          
            Sophie Taylor\, DDS (2 yr term nomination)\n\nDirector-at
 -Large                     Ana Amaya\, DDS (1 yr term nominatio
 n)\n\nDirector-at-Large                     Charlene Rocha\, DD
 S (1 yr term nomination)\n\nDirector-at-Large                   
   Alan Chee\, DDS (2 yr term continuing)\n\nBCR Member:          
                    Raul Contreras\, DMD (3 yr term nomina
 tion)\n\nEditor:                              
             Rosemarie Goldstein\, DDS (2 yr term nomination)
ATTACH;FMTTYPE=image/jpeg:https://i0.wp.com/posts.marindentalsociety.org/w
 p-content/uploads/2024/11/Holiday-Social_2024-12-05.png?fit=1587%2C2245&ss
 l=1
CATEGORIES:General
LOCATION:Monk's Kettle Terra Linda\, 655 Del Ganado Rd\, San Rafael\, CA\, 
 United States
X-APPLE-STRUCTURED-LOCATION;VALUE=URI;X-ADDRESS=655 Del Ganado Rd\, San Raf
 ael\, CA\, United States;X-APPLE-RADIUS=100;X-TITLE=Monk's Kettle Terra Li
 nda:geo:0,0
END:VEVENT
BEGIN:VTIMEZONE
TZID:America/Los_Angeles
X-LIC-LOCATION:America/Los_Angeles
BEGIN:STANDARD
DTSTART:20241103T010000
TZOFFSETFROM:-0700
TZOFFSETTO:-0800
TZNAME:PST
END:STANDARD
END:VTIMEZONE
END:VCALENDAR