BEGIN:VCALENDAR
VERSION:2.0
PRODID:-//wp-events-plugin.com//7.2.3.1//EN
TZID:America/Los_Angeles
X-WR-TIMEZONE:America/Los_Angeles
BEGIN:VEVENT
UID:40@posts.marindentalsociety.org
DTSTART;TZID=America/Los_Angeles:20221108T180000
DTEND;TZID=America/Los_Angeles:20221108T190000
DTSTAMP:20220902T015034Z
URL:https://posts.marindentalsociety.org/events/mcds-board-of-directors-me
 eting-3/
SUMMARY:MCDS Board of Directors Meeting
DESCRIPTION:Virtual.
END:VEVENT
BEGIN:VTIMEZONE
TZID:America/Los_Angeles
X-LIC-LOCATION:America/Los_Angeles
BEGIN:STANDARD
DTSTART:20221106T010000
TZOFFSETFROM:-0700
TZOFFSETTO:-0800
TZNAME:PST
END:STANDARD
END:VTIMEZONE
END:VCALENDAR