BEGIN:VCALENDAR
VERSION:2.0
PRODID:-//wp-events-plugin.com//7.2.3.1//EN
TZID:America/Los_Angeles
X-WR-TIMEZONE:America/Los_Angeles
BEGIN:VEVENT
UID:38@posts.marindentalsociety.org
DTSTART;TZID=America/Los_Angeles:20220913T180000
DTEND;TZID=America/Los_Angeles:20220913T190000
DTSTAMP:20220902T013628Z
URL:https://posts.marindentalsociety.org/events/mcds-board-of-directors-me
 eting/
SUMMARY:MCDS Board of Directors Meeting
DESCRIPTION:Virtual.
END:VEVENT
BEGIN:VTIMEZONE
TZID:America/Los_Angeles
X-LIC-LOCATION:America/Los_Angeles
BEGIN:DAYLIGHT
DTSTART:20220313T030000
TZOFFSETFROM:-0800
TZOFFSETTO:-0700
TZNAME:PDT
END:DAYLIGHT
END:VTIMEZONE
END:VCALENDAR