BEGIN:VCALENDAR
VERSION:2.0
PRODID:-//wp-events-plugin.com//7.2.3.1//EN
TZID:America/Los_Angeles
X-WR-TIMEZONE:America/Los_Angeles
BEGIN:VEVENT
UID:158@posts.marindentalsociety.org
DTSTART;TZID=America/Los_Angeles:20260128T183000
DTEND;TZID=America/Los_Angeles:20260128T210000
DTSTAMP:20260115T204945Z
URL:https://posts.marindentalsociety.org/events/mcds-board-of-directors-re
 treat-2026/
SUMMARY:MCDS Board of Directors Retreat 2026
DESCRIPTION:We will be holding our annual Board of Directors Retreat on Wed
 nesday\, January 28th\, 2026 at 6:30pm. Location TBC.
CATEGORIES:General
END:VEVENT
BEGIN:VTIMEZONE
TZID:America/Los_Angeles
X-LIC-LOCATION:America/Los_Angeles
BEGIN:STANDARD
DTSTART:20251102T010000
TZOFFSETFROM:-0700
TZOFFSETTO:-0800
TZNAME:PST
END:STANDARD
END:VTIMEZONE
END:VCALENDAR