BEGIN:VCALENDAR
VERSION:2.0
PRODID:-//wp-events-plugin.com//7.2.3.1//EN
TZID:America/Los_Angeles
X-WR-TIMEZONE:America/Los_Angeles
BEGIN:VEVENT
UID:144@posts.marindentalsociety.org
DTSTART;TZID=America/Los_Angeles:20260331T000000
DTEND;TZID=America/Los_Angeles:20260331T000000
DTSTAMP:20260312T232251Z
URL:https://posts.marindentalsociety.org/events/mcds-continuing-education-
 events-2026/
SUMMARY:MCDS Continuing Education + Events 2026
DESCRIPTION:The 2026 Schedule is up! Please save the dates!\n\nDownload the
  flyer here
ATTACH;FMTTYPE=image/jpeg:https://i0.wp.com/posts.marindentalsociety.org/w
 p-content/uploads/2025/08/2026-Upcoming-CE-Events-Flyer-Updated_2026-03-12
 .png?fit=1545%2C2000&ssl=1
CATEGORIES:All BLS / CPR Courses,Continuing Education,General
END:VEVENT
BEGIN:VTIMEZONE
TZID:America/Los_Angeles
X-LIC-LOCATION:America/Los_Angeles
BEGIN:DAYLIGHT
DTSTART:20260308T030000
TZOFFSETFROM:-0800
TZOFFSETTO:-0700
TZNAME:PDT
END:DAYLIGHT
END:VTIMEZONE
END:VCALENDAR