BEGIN:VCALENDAR
VERSION:2.0
PRODID:-//wp-events-plugin.com//7.2.3.1//EN
TZID:America/Los_Angeles
X-WR-TIMEZONE:America/Los_Angeles
BEGIN:VEVENT
UID:94@posts.marindentalsociety.org
DTSTART;TZID=America/Los_Angeles:20231207T180000
DTEND;TZID=America/Los_Angeles:20231207T200000
DTSTAMP:20231208T061804Z
URL:https://posts.marindentalsociety.org/events/mcds-elections-holiday-soc
 ial-2/
SUMMARY:MCDS Elections + Holiday Social
DESCRIPTION:Ugly Sweater Contest back by popular demand! Come on down to Il
  Davide for our annual election meeting and holiday social!\n\n6:00 - 9:00
 pm at Il Davide in San Rafael.\n\nElections will be held at 6:30\, dinner 
 at 6:45.\n\nMembers: please REGISTER / PAY HERE  (event registration expe
 riencing difficulties)\n\nNon-members and staff - please contact 415-472-7
 974 to pay over the phone.\n\nSee you there!\n\nVirtual Toy Drive
ATTACH;FMTTYPE=image/jpeg:https://i0.wp.com/posts.marindentalsociety.org/w
 p-content/uploads/2023/11/MCDS-Holiday-Flyer-2023.png?fit=1545%2C2000&ssl=
 1
CATEGORIES:General
LOCATION:Il Davide Restaurant\, 901 A St\, San Rafael\, CA\, United States
X-APPLE-STRUCTURED-LOCATION;VALUE=URI;X-ADDRESS=901 A St\, San Rafael\, CA\
 , United States;X-APPLE-RADIUS=100;X-TITLE=Il Davide Restaurant:geo:0,0
END:VEVENT
BEGIN:VTIMEZONE
TZID:America/Los_Angeles
X-LIC-LOCATION:America/Los_Angeles
BEGIN:STANDARD
DTSTART:20231105T010000
TZOFFSETFROM:-0700
TZOFFSETTO:-0800
TZNAME:PST
END:STANDARD
END:VTIMEZONE
END:VCALENDAR