BEGIN:VCALENDAR
VERSION:2.0
PRODID:-//wp-events-plugin.com//7.2.3.1//EN
TZID:America/Los_Angeles
X-WR-TIMEZONE:America/Los_Angeles
BEGIN:VEVENT
UID:45@posts.marindentalsociety.org
DTSTART;TZID=America/Los_Angeles:20221213T180000
DTEND;TZID=America/Los_Angeles:20221213T193000
DTSTAMP:20221209T060010Z
URL:https://posts.marindentalsociety.org/events/mcds-elections-holiday-soc
 ial/
SUMMARY:MCDS Elections + Holiday Social
DESCRIPTION:Happy end of the year!\n\nIt is time to thank the outgoing boar
 d members for their service\, hold elections and welcome the incoming boar
 d members. It's a lovely way to celebrate the end of 2022 and herald in 20
 23.\nDon your most hideous rendition of holiday garb for an ugly sweater c
 ontest!\nDonate to a local virtual toy drive here&gt\;&gt\;\n&nbsp\;\n\nNo
  CE this time\; we will be taking care of end of the year Society business
 . We are excited to share this time with you and celebrate!
ATTACH;FMTTYPE=image/jpeg:https://i0.wp.com/posts.marindentalsociety.org/w
 p-content/uploads/2022/11/MCDS-Holiday-Flyer-2022-scaled.jpg?fit=1978%2C25
 60&ssl=1
CATEGORIES:General
LOCATION:McInnis Park Club Restaurant\, 350 Smith Ranch Road\, San Rafael\,
  California\, 94903\, Marin County\, United States
GEO:38.021814;-122.519899
X-APPLE-STRUCTURED-LOCATION;VALUE=URI;X-ADDRESS=350 Smith Ranch Road\, San 
 Rafael\, California\, 94903\, Marin County\, United States;X-APPLE-RADIUS=
 100;X-TITLE=McInnis Park Club Restaurant:geo:38.021814,-122.519899
END:VEVENT
BEGIN:VTIMEZONE
TZID:America/Los_Angeles
X-LIC-LOCATION:America/Los_Angeles
BEGIN:STANDARD
DTSTART:20221106T010000
TZOFFSETFROM:-0700
TZOFFSETTO:-0800
TZNAME:PST
END:STANDARD
END:VTIMEZONE
END:VCALENDAR